BEGIN:VCALENDAR
VERSION:2.0
PRODID:-//Heritage Christian Academy - ECPv6.15.17.1//NONSGML v1.0//EN
CALSCALE:GREGORIAN
METHOD:PUBLISH
X-ORIGINAL-URL:https://heritagechmaint.devtest.center
X-WR-CALDESC:Events for Heritage Christian Academy
REFRESH-INTERVAL;VALUE=DURATION:PT1H
X-Robots-Tag:noindex
X-PUBLISHED-TTL:PT1H
BEGIN:VTIMEZONE
TZID:America/Denver
BEGIN:DAYLIGHT
TZOFFSETFROM:-0700
TZOFFSETTO:-0600
TZNAME:MDT
DTSTART:20230312T090000
END:DAYLIGHT
BEGIN:STANDARD
TZOFFSETFROM:-0600
TZOFFSETTO:-0700
TZNAME:MST
DTSTART:20231105T080000
END:STANDARD
BEGIN:DAYLIGHT
TZOFFSETFROM:-0700
TZOFFSETTO:-0600
TZNAME:MDT
DTSTART:20240310T090000
END:DAYLIGHT
BEGIN:STANDARD
TZOFFSETFROM:-0600
TZOFFSETTO:-0700
TZNAME:MST
DTSTART:20241103T080000
END:STANDARD
BEGIN:DAYLIGHT
TZOFFSETFROM:-0700
TZOFFSETTO:-0600
TZNAME:MDT
DTSTART:20250309T090000
END:DAYLIGHT
BEGIN:STANDARD
TZOFFSETFROM:-0600
TZOFFSETTO:-0700
TZNAME:MST
DTSTART:20251102T080000
END:STANDARD
END:VTIMEZONE
BEGIN:VEVENT
DTSTART;TZID=America/Denver:20240408T160000
DTEND;TZID=America/Denver:20240408T170000
DTSTAMP:20260421T154811
CREATED:20230901T011334Z
LAST-MODIFIED:20230901T011334Z
UID:10004483-1712592000-1712595600@heritagechmaint.devtest.center
SUMMARY:MSBB at Windsor Charter
DESCRIPTION:
URL:https://heritagechmaint.devtest.center/event/msbb-at-windsor-charter/
CATEGORIES:B,Middle School,MS Boys Basketball,Sports,Team Level
END:VEVENT
BEGIN:VEVENT
DTSTART;TZID=America/Denver:20240408T170000
DTEND;TZID=America/Denver:20240408T180000
DTSTAMP:20260421T154811
CREATED:20230901T011335Z
LAST-MODIFIED:20230901T011335Z
UID:10004484-1712595600-1712599200@heritagechmaint.devtest.center
SUMMARY:MSBB at Windsor Charter
DESCRIPTION:
URL:https://heritagechmaint.devtest.center/event/msbb-at-windsor-charter-2/
CATEGORIES:A,Middle School,MS Boys Basketball,Sports,Team Level
END:VEVENT
BEGIN:VEVENT
DTSTART;TZID=America/Denver:20240409T160000
DTEND;TZID=America/Denver:20240409T170000
DTSTAMP:20260421T154811
CREATED:20230901T011402Z
LAST-MODIFIED:20230901T011402Z
UID:10004485-1712678400-1712682000@heritagechmaint.devtest.center
SUMMARY:MSBB vs St John’s
DESCRIPTION:
URL:https://heritagechmaint.devtest.center/event/msbb-vs-st-johns-3/
CATEGORIES:B,Middle School,MS Boys Basketball,Sports,Team Level
END:VEVENT
BEGIN:VEVENT
DTSTART;TZID=America/Denver:20240409T170000
DTEND;TZID=America/Denver:20240409T180000
DTSTAMP:20260421T154811
CREATED:20230901T011403Z
LAST-MODIFIED:20230901T011403Z
UID:10004486-1712682000-1712685600@heritagechmaint.devtest.center
SUMMARY:MSBB vs St John’s
DESCRIPTION:
URL:https://heritagechmaint.devtest.center/event/msbb-vs-st-johns-4/
CATEGORIES:A,Middle School,MS Boys Basketball,Sports,Team Level
END:VEVENT
BEGIN:VEVENT
DTSTART;VALUE=DATE:20240411
DTEND;VALUE=DATE:20240412
DTSTAMP:20260421T154811
CREATED:20230825T172946Z
LAST-MODIFIED:20230825T172946Z
UID:10004319-1712793600-1712879999@heritagechmaint.devtest.center
SUMMARY:8th Grade Blessing
DESCRIPTION:
URL:https://heritagechmaint.devtest.center/event/8th-grade-blessing/
CATEGORIES:Special Events
END:VEVENT
BEGIN:VEVENT
DTSTART;TZID=America/Denver:20240411T160000
DTEND;TZID=America/Denver:20240411T170000
DTSTAMP:20260421T154811
CREATED:20230901T011403Z
LAST-MODIFIED:20230901T011403Z
UID:10004487-1712851200-1712854800@heritagechmaint.devtest.center
SUMMARY:MSBB vs West Ridge
DESCRIPTION:
URL:https://heritagechmaint.devtest.center/event/msbb-vs-west-ridge/
CATEGORIES:B,Middle School,MS Boys Basketball,Sports,Team Level
END:VEVENT
BEGIN:VEVENT
DTSTART;TZID=America/Denver:20240411T170000
DTEND;TZID=America/Denver:20240411T180000
DTSTAMP:20260421T154811
CREATED:20230901T011404Z
LAST-MODIFIED:20230901T011404Z
UID:10004488-1712854800-1712858400@heritagechmaint.devtest.center
SUMMARY:MSBB vs West Ridge
DESCRIPTION:
URL:https://heritagechmaint.devtest.center/event/msbb-vs-west-ridge-2/
CATEGORIES:A,Middle School,MS Boys Basketball,Sports,Team Level
END:VEVENT
END:VCALENDAR