BEGIN:VCALENDAR
VERSION:2.0
PRODID:-//Heritage Christian Academy - ECPv6.15.17.1//NONSGML v1.0//EN
CALSCALE:GREGORIAN
METHOD:PUBLISH
X-ORIGINAL-URL:https://heritagechmaint.devtest.center
X-WR-CALDESC:Events for Heritage Christian Academy
REFRESH-INTERVAL;VALUE=DURATION:PT1H
X-Robots-Tag:noindex
X-PUBLISHED-TTL:PT1H
BEGIN:VTIMEZONE
TZID:America/Denver
BEGIN:DAYLIGHT
TZOFFSETFROM:-0700
TZOFFSETTO:-0600
TZNAME:MDT
DTSTART:20230312T090000
END:DAYLIGHT
BEGIN:STANDARD
TZOFFSETFROM:-0600
TZOFFSETTO:-0700
TZNAME:MST
DTSTART:20231105T080000
END:STANDARD
BEGIN:DAYLIGHT
TZOFFSETFROM:-0700
TZOFFSETTO:-0600
TZNAME:MDT
DTSTART:20240310T090000
END:DAYLIGHT
BEGIN:STANDARD
TZOFFSETFROM:-0600
TZOFFSETTO:-0700
TZNAME:MST
DTSTART:20241103T080000
END:STANDARD
BEGIN:DAYLIGHT
TZOFFSETFROM:-0700
TZOFFSETTO:-0600
TZNAME:MDT
DTSTART:20250309T090000
END:DAYLIGHT
BEGIN:STANDARD
TZOFFSETFROM:-0600
TZOFFSETTO:-0700
TZNAME:MST
DTSTART:20251102T080000
END:STANDARD
END:VTIMEZONE
BEGIN:VEVENT
DTSTART;TZID=America/Denver:20240226T170000
DTEND;TZID=America/Denver:20240226T180000
DTSTAMP:20260422T033522
CREATED:20230901T011057Z
LAST-MODIFIED:20240317T215704Z
UID:10004460-1708966800-1708970400@heritagechmaint.devtest.center
SUMMARY:MSBB First Formal Practice
DESCRIPTION:
URL:https://heritagechmaint.devtest.center/event/msbb-first-formal-practice/
CATEGORIES:A,B,C,Middle School,MS Boys Basketball,Sports
END:VEVENT
BEGIN:VEVENT
DTSTART;VALUE=DATE:20240301
DTEND;VALUE=DATE:20240303
DTSTAMP:20260422T033522
CREATED:20230901T004818Z
LAST-MODIFIED:20230901T004818Z
UID:10004409-1709251200-1709423999@heritagechmaint.devtest.center
SUMMARY:HSGB Regional Playoffs
DESCRIPTION:
URL:https://heritagechmaint.devtest.center/event/hsgb-regional-playoffs/
CATEGORIES:High School,HS Girls Basketball,Sports,Team Level,Varsity
END:VEVENT
END:VCALENDAR