BEGIN:VCALENDAR
VERSION:2.0
PRODID:-//Heritage Christian Academy - ECPv6.15.17.1//NONSGML v1.0//EN
CALSCALE:GREGORIAN
METHOD:PUBLISH
X-WR-CALNAME:Heritage Christian Academy
X-ORIGINAL-URL:https://heritagechmaint.devtest.center
X-WR-CALDESC:Events for Heritage Christian Academy
REFRESH-INTERVAL;VALUE=DURATION:PT1H
X-Robots-Tag:noindex
X-PUBLISHED-TTL:PT1H
BEGIN:VTIMEZONE
TZID:America/Denver
BEGIN:DAYLIGHT
TZOFFSETFROM:-0700
TZOFFSETTO:-0600
TZNAME:MDT
DTSTART:20230312T090000
END:DAYLIGHT
BEGIN:STANDARD
TZOFFSETFROM:-0600
TZOFFSETTO:-0700
TZNAME:MST
DTSTART:20231105T080000
END:STANDARD
BEGIN:DAYLIGHT
TZOFFSETFROM:-0700
TZOFFSETTO:-0600
TZNAME:MDT
DTSTART:20240310T090000
END:DAYLIGHT
BEGIN:STANDARD
TZOFFSETFROM:-0600
TZOFFSETTO:-0700
TZNAME:MST
DTSTART:20241103T080000
END:STANDARD
BEGIN:DAYLIGHT
TZOFFSETFROM:-0700
TZOFFSETTO:-0600
TZNAME:MDT
DTSTART:20250309T090000
END:DAYLIGHT
BEGIN:STANDARD
TZOFFSETFROM:-0600
TZOFFSETTO:-0700
TZNAME:MST
DTSTART:20251102T080000
END:STANDARD
END:VTIMEZONE
BEGIN:VEVENT
DTSTART;VALUE=DATE:20240211
DTEND;VALUE=DATE:20240212
DTSTAMP:20260423T043513
CREATED:20230901T004617Z
LAST-MODIFIED:20230901T004617Z
UID:10004403-1707609600-1707695999@heritagechmaint.devtest.center
SUMMARY:HSGB at Wray
DESCRIPTION:
URL:https://heritagechmaint.devtest.center/event/hsgb-at-wray/
CATEGORIES:High School,HS Girls Basketball,Sports,Team Level,Varsity
END:VEVENT
BEGIN:VEVENT
DTSTART;VALUE=DATE:20240211
DTEND;VALUE=DATE:20240212
DTSTAMP:20260423T043513
CREATED:20230901T004617Z
LAST-MODIFIED:20230901T004617Z
UID:10004404-1707609600-1707695999@heritagechmaint.devtest.center
SUMMARY:HSGB at Wray
DESCRIPTION:
URL:https://heritagechmaint.devtest.center/event/hsgb-at-wray-2/
CATEGORIES:High School,HS Girls Basketball,JV,Sports,Team Level
END:VEVENT
BEGIN:VEVENT
DTSTART;VALUE=DATE:20240213
DTEND;VALUE=DATE:20240214
DTSTAMP:20260423T043513
CREATED:20230901T004618Z
LAST-MODIFIED:20230901T004618Z
UID:10004405-1707782400-1707868799@heritagechmaint.devtest.center
SUMMARY:HSGB vs BYE
DESCRIPTION:
URL:https://heritagechmaint.devtest.center/event/hsgb-vs-bye/
CATEGORIES:High School,HS Girls Basketball,JV,Sports,Team Level
END:VEVENT
BEGIN:VEVENT
DTSTART;TZID=America/Denver:20240215T080000
DTEND;TZID=America/Denver:20240215T180000
DTSTAMP:20260423T043513
CREATED:20230825T173118Z
LAST-MODIFIED:20230825T173118Z
UID:10004320-1707984000-1708020000@heritagechmaint.devtest.center
SUMMARY:Parent/Teacher Conf (No School)
DESCRIPTION:
URL:https://heritagechmaint.devtest.center/event/parent-teacher-conf-no-school/
LOCATION:Heritage Christian Academy\, 2506 Zurich Dr. #1\, Fort Collins\, CO\, 80524\, United States
CATEGORIES:School Days
END:VEVENT
BEGIN:VEVENT
DTSTART;VALUE=DATE:20240216
DTEND;VALUE=DATE:20240217
DTSTAMP:20260423T043513
CREATED:20230824T231751Z
LAST-MODIFIED:20230824T231751Z
UID:10004312-1708041600-1708127999@heritagechmaint.devtest.center
SUMMARY:Teacher In-Service -- No School
DESCRIPTION:
URL:https://heritagechmaint.devtest.center/event/teacher-in-service-no-school/
LOCATION:Heritage Christian Academy\, 2506 Zurich Dr. #1\, Fort Collins\, CO\, 80524\, United States
CATEGORIES:School Days
END:VEVENT
BEGIN:VEVENT
DTSTART;VALUE=DATE:20240216
DTEND;VALUE=DATE:20240217
DTSTAMP:20260423T043513
CREATED:20230901T004817Z
LAST-MODIFIED:20230901T004817Z
UID:10004406-1708041600-1708127999@heritagechmaint.devtest.center
SUMMARY:HSGB vs Denver Christian*
DESCRIPTION:
URL:https://heritagechmaint.devtest.center/event/hsgb-vs-denver-christian/
CATEGORIES:High School,HS Girls Basketball,Sports,Team Level,Varsity
END:VEVENT
BEGIN:VEVENT
DTSTART;VALUE=DATE:20240216
DTEND;VALUE=DATE:20240217
DTSTAMP:20260423T043513
CREATED:20230901T004817Z
LAST-MODIFIED:20230901T004817Z
UID:10004407-1708041600-1708127999@heritagechmaint.devtest.center
SUMMARY:HSGB vs Denver Christian*
DESCRIPTION:
URL:https://heritagechmaint.devtest.center/event/hsgb-vs-denver-christian-2/
CATEGORIES:High School,HS Girls Basketball,JV,Sports,Team Level
END:VEVENT
END:VCALENDAR