BEGIN:VCALENDAR
VERSION:2.0
PRODID:-//Heritage Christian Academy - ECPv6.15.17.1//NONSGML v1.0//EN
CALSCALE:GREGORIAN
METHOD:PUBLISH
X-WR-CALNAME:Heritage Christian Academy
X-ORIGINAL-URL:https://heritagechmaint.devtest.center
X-WR-CALDESC:Events for Heritage Christian Academy
REFRESH-INTERVAL;VALUE=DURATION:PT1H
X-Robots-Tag:noindex
X-PUBLISHED-TTL:PT1H
BEGIN:VTIMEZONE
TZID:America/Denver
BEGIN:DAYLIGHT
TZOFFSETFROM:-0700
TZOFFSETTO:-0600
TZNAME:MDT
DTSTART:20220313T090000
END:DAYLIGHT
BEGIN:STANDARD
TZOFFSETFROM:-0600
TZOFFSETTO:-0700
TZNAME:MST
DTSTART:20221106T080000
END:STANDARD
BEGIN:DAYLIGHT
TZOFFSETFROM:-0700
TZOFFSETTO:-0600
TZNAME:MDT
DTSTART:20230312T090000
END:DAYLIGHT
BEGIN:STANDARD
TZOFFSETFROM:-0600
TZOFFSETTO:-0700
TZNAME:MST
DTSTART:20231105T080000
END:STANDARD
BEGIN:DAYLIGHT
TZOFFSETFROM:-0700
TZOFFSETTO:-0600
TZNAME:MDT
DTSTART:20240310T090000
END:DAYLIGHT
BEGIN:STANDARD
TZOFFSETFROM:-0600
TZOFFSETTO:-0700
TZNAME:MST
DTSTART:20241103T080000
END:STANDARD
BEGIN:DAYLIGHT
TZOFFSETFROM:-0700
TZOFFSETTO:-0600
TZNAME:MDT
DTSTART:20250309T090000
END:DAYLIGHT
BEGIN:STANDARD
TZOFFSETFROM:-0600
TZOFFSETTO:-0700
TZNAME:MST
DTSTART:20251102T080000
END:STANDARD
END:VTIMEZONE
BEGIN:VEVENT
DTSTART;VALUE=DATE:20231222
DTEND;VALUE=DATE:20240109
DTSTAMP:20260425T180358
CREATED:20230824T230915Z
LAST-MODIFIED:20231107T231517Z
UID:10004307-1703203200-1704758399@heritagechmaint.devtest.center
SUMMARY:Christmas Break -- No School
DESCRIPTION:
URL:https://heritagechmaint.devtest.center/event/christmas-break-no-school-2/
LOCATION:Heritage Christian Academy\, 2506 Zurich Dr. #1\, Fort Collins\, CO\, 80524\, United States
CATEGORIES:School Days
END:VEVENT
BEGIN:VEVENT
DTSTART;VALUE=DATE:20240108
DTEND;VALUE=DATE:20240109
DTSTAMP:20260425T180358
CREATED:20230824T231225Z
LAST-MODIFIED:20230824T231225Z
UID:10004308-1704672000-1704758399@heritagechmaint.devtest.center
SUMMARY:Teacher Work Day -- No School
DESCRIPTION:
URL:https://heritagechmaint.devtest.center/event/teacher-work-day-no-school/
LOCATION:Heritage Christian Academy\, 2506 Zurich Dr. #1\, Fort Collins\, CO\, 80524\, United States
CATEGORIES:School Days
END:VEVENT
BEGIN:VEVENT
DTSTART;TZID=America/Denver:20240108T160000
DTEND;TZID=America/Denver:20240108T170000
DTSTAMP:20260425T180358
CREATED:20230901T012922Z
LAST-MODIFIED:20230901T012922Z
UID:10004542-1704729600-1704733200@heritagechmaint.devtest.center
SUMMARY:MSGV at Immanuel
DESCRIPTION:
URL:https://heritagechmaint.devtest.center/event/msgv-at-immanuel-2/
CATEGORIES:B,Middle School,MS Girls Volleyball,Sports,Team Level
END:VEVENT
BEGIN:VEVENT
DTSTART;TZID=America/Denver:20240108T170000
DTEND;TZID=America/Denver:20240108T180000
DTSTAMP:20260425T180358
CREATED:20230901T012922Z
LAST-MODIFIED:20230901T012922Z
UID:10004541-1704733200-1704736800@heritagechmaint.devtest.center
SUMMARY:MSGV at Immanuel
DESCRIPTION:
URL:https://heritagechmaint.devtest.center/event/msgv-at-immanuel/
CATEGORIES:A,Middle School,MS Girls Volleyball,Sports,Team Level
END:VEVENT
BEGIN:VEVENT
DTSTART;VALUE=DATE:20240109
DTEND;VALUE=DATE:20240110
DTSTAMP:20260425T180358
CREATED:20230824T231341Z
LAST-MODIFIED:20230824T231341Z
UID:10004309-1704758400-1704844799@heritagechmaint.devtest.center
SUMMARY:School Resumes; 3rd Qtr begins
DESCRIPTION:
URL:https://heritagechmaint.devtest.center/event/school-resumes-3rd-qtr-begins/
LOCATION:Heritage Christian Academy\, 2506 Zurich Dr. #1\, Fort Collins\, CO\, 80524\, United States
CATEGORIES:School Days
END:VEVENT
BEGIN:VEVENT
DTSTART;VALUE=DATE:20240109
DTEND;VALUE=DATE:20240110
DTSTAMP:20260425T180358
CREATED:20230901T003618Z
LAST-MODIFIED:20230901T003618Z
UID:10004382-1704758400-1704844799@heritagechmaint.devtest.center
SUMMARY:HSGB vs Union Colony*
DESCRIPTION:
URL:https://heritagechmaint.devtest.center/event/hsgb-vs-union-colony/
CATEGORIES:High School,HS Girls Basketball,JV,Sports,Team Level
END:VEVENT
BEGIN:VEVENT
DTSTART;TZID=America/Denver:20240110T160000
DTEND;TZID=America/Denver:20240110T170000
DTSTAMP:20260425T180358
CREATED:20230901T013013Z
LAST-MODIFIED:20230901T013013Z
UID:10004544-1704902400-1704906000@heritagechmaint.devtest.center
SUMMARY:MSGV vs West Ridge
DESCRIPTION:
URL:https://heritagechmaint.devtest.center/event/msgv-vs-west-ridge-2/
CATEGORIES:B,Middle School,MS Girls Volleyball,Sports,Team Level
END:VEVENT
BEGIN:VEVENT
DTSTART;TZID=America/Denver:20240110T170000
DTEND;TZID=America/Denver:20240110T180000
DTSTAMP:20260425T180358
CREATED:20230901T012922Z
LAST-MODIFIED:20230901T012922Z
UID:10004543-1704906000-1704909600@heritagechmaint.devtest.center
SUMMARY:MSGV vs West Ridge
DESCRIPTION:
URL:https://heritagechmaint.devtest.center/event/msgv-vs-west-ridge/
CATEGORIES:A,Middle School,MS Girls Volleyball,Sports,Team Level
END:VEVENT
BEGIN:VEVENT
DTSTART;VALUE=DATE:20240112
DTEND;VALUE=DATE:20240113
DTSTAMP:20260425T180358
CREATED:20230901T003817Z
LAST-MODIFIED:20230901T003817Z
UID:10004383-1705017600-1705103999@heritagechmaint.devtest.center
SUMMARY:HSGB at Lyons
DESCRIPTION:
URL:https://heritagechmaint.devtest.center/event/hsgb-at-lyons/
CATEGORIES:High School,HS Girls Basketball,Sports,Team Level,Varsity
END:VEVENT
BEGIN:VEVENT
DTSTART;VALUE=DATE:20240112
DTEND;VALUE=DATE:20240113
DTSTAMP:20260425T180358
CREATED:20230901T003818Z
LAST-MODIFIED:20230901T003818Z
UID:10004384-1705017600-1705103999@heritagechmaint.devtest.center
SUMMARY:HSGB at Lyons
DESCRIPTION:
URL:https://heritagechmaint.devtest.center/event/hsgb-at-lyons-2/
CATEGORIES:High School,HS Girls Basketball,JV,Sports,Team Level
END:VEVENT
BEGIN:VEVENT
DTSTART;VALUE=DATE:20240112
DTEND;VALUE=DATE:20240113
DTSTAMP:20260425T180358
CREATED:20230901T013013Z
LAST-MODIFIED:20230901T013013Z
UID:10004545-1705017600-1705103999@heritagechmaint.devtest.center
SUMMARY:MSGV BYE
DESCRIPTION:
URL:https://heritagechmaint.devtest.center/event/msgv-bye/
CATEGORIES:Middle School,MS Girls Volleyball,Sports
END:VEVENT
END:VCALENDAR