BEGIN:VCALENDAR
VERSION:2.0
PRODID:-//Heritage Christian Academy - ECPv6.15.17.1//NONSGML v1.0//EN
CALSCALE:GREGORIAN
METHOD:PUBLISH
X-WR-CALNAME:Heritage Christian Academy
X-ORIGINAL-URL:https://heritagechmaint.devtest.center
X-WR-CALDESC:Events for Heritage Christian Academy
REFRESH-INTERVAL;VALUE=DURATION:PT1H
X-Robots-Tag:noindex
X-PUBLISHED-TTL:PT1H
BEGIN:VTIMEZONE
TZID:America/Denver
BEGIN:DAYLIGHT
TZOFFSETFROM:-0700
TZOFFSETTO:-0600
TZNAME:MDT
DTSTART:20220313T090000
END:DAYLIGHT
BEGIN:STANDARD
TZOFFSETFROM:-0600
TZOFFSETTO:-0700
TZNAME:MST
DTSTART:20221106T080000
END:STANDARD
BEGIN:DAYLIGHT
TZOFFSETFROM:-0700
TZOFFSETTO:-0600
TZNAME:MDT
DTSTART:20230312T090000
END:DAYLIGHT
BEGIN:STANDARD
TZOFFSETFROM:-0600
TZOFFSETTO:-0700
TZNAME:MST
DTSTART:20231105T080000
END:STANDARD
BEGIN:DAYLIGHT
TZOFFSETFROM:-0700
TZOFFSETTO:-0600
TZNAME:MDT
DTSTART:20240310T090000
END:DAYLIGHT
BEGIN:STANDARD
TZOFFSETFROM:-0600
TZOFFSETTO:-0700
TZNAME:MST
DTSTART:20241103T080000
END:STANDARD
BEGIN:DAYLIGHT
TZOFFSETFROM:-0700
TZOFFSETTO:-0600
TZNAME:MDT
DTSTART:20250309T090000
END:DAYLIGHT
BEGIN:STANDARD
TZOFFSETFROM:-0600
TZOFFSETTO:-0700
TZNAME:MST
DTSTART:20251102T080000
END:STANDARD
END:VTIMEZONE
BEGIN:VEVENT
DTSTART;VALUE=DATE:20231222
DTEND;VALUE=DATE:20240109
DTSTAMP:20260424T064216
CREATED:20230824T230915Z
LAST-MODIFIED:20231107T231517Z
UID:10004307-1703203200-1704758399@heritagechmaint.devtest.center
SUMMARY:Christmas Break -- No School
DESCRIPTION:
URL:https://heritagechmaint.devtest.center/event/christmas-break-no-school-2/
LOCATION:Heritage Christian Academy\, 2506 Zurich Dr. #1\, Fort Collins\, CO\, 80524\, United States
CATEGORIES:School Days
END:VEVENT
BEGIN:VEVENT
DTSTART;TZID=America/Denver:20240102T153000
DTEND;TZID=America/Denver:20240102T163000
DTSTAMP:20260424T064216
CREATED:20230901T003617Z
LAST-MODIFIED:20230901T003617Z
UID:10004379-1704209400-1704213000@heritagechmaint.devtest.center
SUMMARY:HSGB at Windsor Charter Girls
DESCRIPTION:
URL:https://heritagechmaint.devtest.center/event/hsgb-at-windsor-charter-girls-3/
CATEGORIES:C,High School,HS Girls Basketball,Sports,Team Level
END:VEVENT
BEGIN:VEVENT
DTSTART;TZID=America/Denver:20240102T163000
DTEND;TZID=America/Denver:20240102T174500
DTSTAMP:20260424T064216
CREATED:20230901T003616Z
LAST-MODIFIED:20230901T003616Z
UID:10004378-1704213000-1704217500@heritagechmaint.devtest.center
SUMMARY:HSGB at Windsor Charter Girls
DESCRIPTION:
URL:https://heritagechmaint.devtest.center/event/hsgb-at-windsor-charter-girls-2/
CATEGORIES:High School,HS Girls Basketball,JV,Sports,Team Level
END:VEVENT
BEGIN:VEVENT
DTSTART;TZID=America/Denver:20240102T180000
DTEND;TZID=America/Denver:20240102T191500
DTSTAMP:20260424T064216
CREATED:20230901T003418Z
LAST-MODIFIED:20230901T003418Z
UID:10004377-1704218400-1704222900@heritagechmaint.devtest.center
SUMMARY:HSGB at Windsor Charter Girls
DESCRIPTION:
URL:https://heritagechmaint.devtest.center/event/hsgb-at-windsor-charter-girls/
CATEGORIES:High School,HS Girls Basketball,Sports,Team Level,Varsity
END:VEVENT
BEGIN:VEVENT
DTSTART;VALUE=DATE:20240106
DTEND;VALUE=DATE:20240107
DTSTAMP:20260424T064216
CREATED:20230901T003617Z
LAST-MODIFIED:20230901T003617Z
UID:10004380-1704499200-1704585599@heritagechmaint.devtest.center
SUMMARY:HSGB Dayspring*
DESCRIPTION:
URL:https://heritagechmaint.devtest.center/event/hsgb-dayspring/
CATEGORIES:High School,HS Girls Basketball,Sports,Team Level,Varsity
END:VEVENT
BEGIN:VEVENT
DTSTART;VALUE=DATE:20240106
DTEND;VALUE=DATE:20240107
DTSTAMP:20260424T064216
CREATED:20230901T003617Z
LAST-MODIFIED:20230901T003617Z
UID:10004381-1704499200-1704585599@heritagechmaint.devtest.center
SUMMARY:HSGB Dayspring*
DESCRIPTION:
URL:https://heritagechmaint.devtest.center/event/hsgb-dayspring-2/
CATEGORIES:High School,HS Girls Basketball,JV,Sports,Team Level
END:VEVENT
END:VCALENDAR