BEGIN:VCALENDAR
VERSION:2.0
PRODID:-//Heritage Christian Academy - ECPv6.15.17.1//NONSGML v1.0//EN
CALSCALE:GREGORIAN
METHOD:PUBLISH
X-WR-CALNAME:Heritage Christian Academy
X-ORIGINAL-URL:https://heritagechmaint.devtest.center
X-WR-CALDESC:Events for Heritage Christian Academy
REFRESH-INTERVAL;VALUE=DURATION:PT1H
X-Robots-Tag:noindex
X-PUBLISHED-TTL:PT1H
BEGIN:VTIMEZONE
TZID:America/Denver
BEGIN:DAYLIGHT
TZOFFSETFROM:-0700
TZOFFSETTO:-0600
TZNAME:MDT
DTSTART:20220313T090000
END:DAYLIGHT
BEGIN:STANDARD
TZOFFSETFROM:-0600
TZOFFSETTO:-0700
TZNAME:MST
DTSTART:20221106T080000
END:STANDARD
BEGIN:DAYLIGHT
TZOFFSETFROM:-0700
TZOFFSETTO:-0600
TZNAME:MDT
DTSTART:20230312T090000
END:DAYLIGHT
BEGIN:STANDARD
TZOFFSETFROM:-0600
TZOFFSETTO:-0700
TZNAME:MST
DTSTART:20231105T080000
END:STANDARD
BEGIN:DAYLIGHT
TZOFFSETFROM:-0700
TZOFFSETTO:-0600
TZNAME:MDT
DTSTART:20240310T090000
END:DAYLIGHT
BEGIN:STANDARD
TZOFFSETFROM:-0600
TZOFFSETTO:-0700
TZNAME:MST
DTSTART:20241103T080000
END:STANDARD
END:VTIMEZONE
BEGIN:VEVENT
DTSTART;TZID=America/Denver:20231004T180000
DTEND;TZID=America/Denver:20231004T190000
DTSTAMP:20260421T082214
CREATED:20230901T010755Z
LAST-MODIFIED:20230901T010755Z
UID:10004438-1696442400-1696446000@heritagechmaint.devtest.center
SUMMARY:HSGV vs Front Range Christian*
DESCRIPTION:
URL:https://heritagechmaint.devtest.center/event/hsgv-vs-front-range-christian/
CATEGORIES:High School,HS Girls Volleyball,Sports,Team Level,Varsity
END:VEVENT
BEGIN:VEVENT
DTSTART;TZID=America/Denver:20231004T180000
DTEND;TZID=America/Denver:20231004T190000
DTSTAMP:20260421T082214
CREATED:20230901T010755Z
LAST-MODIFIED:20230901T010755Z
UID:10004439-1696442400-1696446000@heritagechmaint.devtest.center
SUMMARY:HSGV vs Front Range Christian*
DESCRIPTION:
URL:https://heritagechmaint.devtest.center/event/hsgv-vs-front-range-christian-2/
CATEGORIES:High School,HS Girls Volleyball,JV,Sports,Team Level
END:VEVENT
BEGIN:VEVENT
DTSTART;TZID=America/Denver:20231004T170000
DTEND;TZID=America/Denver:20231004T180000
DTSTAMP:20260421T082214
CREATED:20230901T014335Z
LAST-MODIFIED:20230901T014335Z
UID:10004571-1696438800-1696442400@heritagechmaint.devtest.center
SUMMARY:HSGV vs Front Range Christian*
DESCRIPTION:
URL:https://heritagechmaint.devtest.center/event/hsgv-vs-front-range-christian-4/
CATEGORIES:High School,HS Girls Volleyball,JV,Sports,Team Level
END:VEVENT
BEGIN:VEVENT
DTSTART;TZID=America/Denver:20231004T160000
DTEND;TZID=America/Denver:20231004T190000
DTSTAMP:20260421T082214
CREATED:20230901T010756Z
LAST-MODIFIED:20230901T010756Z
UID:10004440-1696435200-1696446000@heritagechmaint.devtest.center
SUMMARY:HSGV vs Front Range Christian*
DESCRIPTION:
URL:https://heritagechmaint.devtest.center/event/hsgv-vs-front-range-christian-3/
CATEGORIES:High School,HS Girls Volleyball,Sports,Team Level,Varsity
END:VEVENT
BEGIN:VEVENT
DTSTART;TZID=America/Denver:20231003T160000
DTEND;TZID=America/Denver:20231003T170000
DTSTAMP:20260421T082214
CREATED:20230831T235347Z
LAST-MODIFIED:20230831T235347Z
UID:10004343-1696348800-1696352400@heritagechmaint.devtest.center
SUMMARY:HSBSoc at Union Colony*
DESCRIPTION:
URL:https://heritagechmaint.devtest.center/event/hsbsoc-at-union-colony/
CATEGORIES:High School,HS Boys Soccer,Sports,Team Level,Varsity
END:VEVENT
BEGIN:VEVENT
DTSTART;TZID=America/Denver:20231002T170000
DTEND;TZID=America/Denver:20231002T180000
DTSTAMP:20260421T082214
CREATED:20230901T011959Z
LAST-MODIFIED:20230901T011959Z
UID:10004507-1696266000-1696269600@heritagechmaint.devtest.center
SUMMARY:MSGB vs Union Colony
DESCRIPTION:
URL:https://heritagechmaint.devtest.center/event/msgb-vs-union-colony-2/
CATEGORIES:A,Middle School,MS Girls Basketball,Sports,Team Level
END:VEVENT
BEGIN:VEVENT
DTSTART;TZID=America/Denver:20231002T160000
DTEND;TZID=America/Denver:20231002T170000
DTSTAMP:20260421T082214
CREATED:20230901T011958Z
LAST-MODIFIED:20230901T011958Z
UID:10004506-1696262400-1696266000@heritagechmaint.devtest.center
SUMMARY:MSGB vs Union Colony
DESCRIPTION:
URL:https://heritagechmaint.devtest.center/event/msgb-vs-union-colony/
CATEGORIES:B,Middle School,MS Girls Basketball,Sports,Team Level
END:VEVENT
BEGIN:VEVENT
DTSTART;VALUE=DATE:20230930
DTEND;VALUE=DATE:20231001
DTSTAMP:20260421T082214
CREATED:20230901T000424Z
LAST-MODIFIED:20230901T000424Z
UID:10004362-1696032000-1696118399@heritagechmaint.devtest.center
SUMMARY:HSCC Loveland Sweetheart – North Lake Park\, Loveland
DESCRIPTION:
URL:https://heritagechmaint.devtest.center/event/hscc-loveland-sweetheart-north-lake-park-loveland/
CATEGORIES:High School,HS Cross Country,Sports,Team Level,Varsity
END:VEVENT
BEGIN:VEVENT
DTSTART;TZID=America/Denver:20230929T160000
DTEND;TZID=America/Denver:20230929T170000
DTSTAMP:20260421T082214
CREATED:20230901T011925Z
LAST-MODIFIED:20231009T232346Z
UID:10004504-1696003200-1696006800@heritagechmaint.devtest.center
SUMMARY:MSBSoc Playoffs Finals
DESCRIPTION:
URL:https://heritagechmaint.devtest.center/event/msbsoc-playoffs-finals/
CATEGORIES:A,Middle School,MS Boys Basketball,Sports,Team Level
END:VEVENT
BEGIN:VEVENT
DTSTART;TZID=America/Denver:20230928T180000
DTEND;TZID=America/Denver:20230928T190000
DTSTAMP:20260421T082214
CREATED:20230901T010739Z
LAST-MODIFIED:20230901T010739Z
UID:10004436-1695924000-1695927600@heritagechmaint.devtest.center
SUMMARY:HSGV at Gilpin County*
DESCRIPTION:
URL:https://heritagechmaint.devtest.center/event/hsgv-at-gilpin-county-2/
CATEGORIES:High School,HS Girls Volleyball,Sports,Team Level,Varsity
END:VEVENT
BEGIN:VEVENT
DTSTART;TZID=America/Denver:20230928T180000
DTEND;TZID=America/Denver:20230928T190000
DTSTAMP:20260421T082214
CREATED:20230901T010738Z
LAST-MODIFIED:20230901T010738Z
UID:10004435-1695924000-1695927600@heritagechmaint.devtest.center
SUMMARY:HSGV at Gilpin County*
DESCRIPTION:
URL:https://heritagechmaint.devtest.center/event/hsgv-at-gilpin-county/
CATEGORIES:High School,HS Girls Volleyball,Sports,Team Level,Varsity
END:VEVENT
BEGIN:VEVENT
DTSTART;TZID=America/Denver:20230928T170000
DTEND;TZID=America/Denver:20230928T180000
DTSTAMP:20260421T082214
CREATED:20230901T014219Z
LAST-MODIFIED:20230901T014219Z
UID:10004570-1695920400-1695924000@heritagechmaint.devtest.center
SUMMARY:HSGV at Gilpin County*
DESCRIPTION:
URL:https://heritagechmaint.devtest.center/event/hsgv-at-gilpin-county-4/
CATEGORIES:High School,HS Girls Volleyball,JV,Sports,Team Level
END:VEVENT
BEGIN:VEVENT
DTSTART;TZID=America/Denver:20230928T160000
DTEND;TZID=America/Denver:20230928T190000
DTSTAMP:20260421T082214
CREATED:20230901T010754Z
LAST-MODIFIED:20230901T010754Z
UID:10004437-1695916800-1695927600@heritagechmaint.devtest.center
SUMMARY:HSGV at Gilpin County*
DESCRIPTION:
URL:https://heritagechmaint.devtest.center/event/hsgv-at-gilpin-county-3/
CATEGORIES:High School,HS Girls Volleyball,Sports,Team Level,Varsity
END:VEVENT
BEGIN:VEVENT
DTSTART;TZID=America/Denver:20230928T160000
DTEND;TZID=America/Denver:20230928T170000
DTSTAMP:20260421T082214
CREATED:20230831T235346Z
LAST-MODIFIED:20230831T235346Z
UID:10004342-1695916800-1695920400@heritagechmaint.devtest.center
SUMMARY:HSBSoc vs Dawson*
DESCRIPTION:
URL:https://heritagechmaint.devtest.center/event/hsbsoc-vs-dawson/
CATEGORIES:High School,HS Boys Soccer,Sports,Team Level,Varsity
END:VEVENT
BEGIN:VEVENT
DTSTART;TZID=America/Denver:20230927T160000
DTEND;TZID=America/Denver:20230927T170000
DTSTAMP:20260421T082214
CREATED:20230901T011924Z
LAST-MODIFIED:20231009T232404Z
UID:10004503-1695830400-1695834000@heritagechmaint.devtest.center
SUMMARY:MSBSoc Playoffs Semifinals
DESCRIPTION:
URL:https://heritagechmaint.devtest.center/event/msbsoc-playoffs-semifinals/
CATEGORIES:A,Middle School,MS Boys Basketball,Sports,Team Level
END:VEVENT
BEGIN:VEVENT
DTSTART;TZID=America/Denver:20230926T180000
DTEND;TZID=America/Denver:20230926T190000
DTSTAMP:20260421T082214
CREATED:20230901T010736Z
LAST-MODIFIED:20230901T010736Z
UID:10004432-1695751200-1695754800@heritagechmaint.devtest.center
SUMMARY:HSGV vs Lyons*
DESCRIPTION:
URL:https://heritagechmaint.devtest.center/event/hsgv-vs-lyons/
CATEGORIES:High School,HS Girls Volleyball,Sports,Team Level,Varsity
END:VEVENT
BEGIN:VEVENT
DTSTART;TZID=America/Denver:20230926T180000
DTEND;TZID=America/Denver:20230926T190000
DTSTAMP:20260421T082214
CREATED:20230901T010736Z
LAST-MODIFIED:20230901T010736Z
UID:10004433-1695751200-1695754800@heritagechmaint.devtest.center
SUMMARY:HSGV vs Lyons*
DESCRIPTION:
URL:https://heritagechmaint.devtest.center/event/hsgv-vs-lyons-2/
CATEGORIES:High School,HS Girls Volleyball,JV,Sports,Team Level
END:VEVENT
BEGIN:VEVENT
DTSTART;TZID=America/Denver:20230926T170000
DTEND;TZID=America/Denver:20230926T180000
DTSTAMP:20260421T082214
CREATED:20230901T014218Z
LAST-MODIFIED:20230901T014218Z
UID:10004569-1695747600-1695751200@heritagechmaint.devtest.center
SUMMARY:HSGV vs Lyons*
DESCRIPTION:
URL:https://heritagechmaint.devtest.center/event/hsgv-vs-lyons-4/
CATEGORIES:High School,HS Girls Volleyball,JV,Sports,Team Level
END:VEVENT
BEGIN:VEVENT
DTSTART;TZID=America/Denver:20230926T160000
DTEND;TZID=America/Denver:20230926T190000
DTSTAMP:20260421T082214
CREATED:20230901T010737Z
LAST-MODIFIED:20230901T010737Z
UID:10004434-1695744000-1695754800@heritagechmaint.devtest.center
SUMMARY:HSGV vs Lyons*
DESCRIPTION:
URL:https://heritagechmaint.devtest.center/event/hsgv-vs-lyons-3/
CATEGORIES:High School,HS Girls Volleyball,Sports,Team Level,Varsity
END:VEVENT
BEGIN:VEVENT
DTSTART;TZID=America/Denver:20230926T160000
DTEND;TZID=America/Denver:20230926T170000
DTSTAMP:20260421T082214
CREATED:20230831T235212Z
LAST-MODIFIED:20230831T235212Z
UID:10004341-1695744000-1695747600@heritagechmaint.devtest.center
SUMMARY:HSBSoc vs Front Range Christian*
DESCRIPTION:
URL:https://heritagechmaint.devtest.center/event/hsbsoc-vs-front-range-christian/
CATEGORIES:High School,HS Boys Soccer,Sports,Team Level,Varsity
END:VEVENT
BEGIN:VEVENT
DTSTART;TZID=America/Denver:20230925T170000
DTEND;TZID=America/Denver:20230925T180000
DTSTAMP:20260421T082214
CREATED:20230901T011958Z
LAST-MODIFIED:20230901T011958Z
UID:10004505-1695661200-1695664800@heritagechmaint.devtest.center
SUMMARY:MSGB First Formal Practice
DESCRIPTION:
URL:https://heritagechmaint.devtest.center/event/msgb-first-formal-practice/
CATEGORIES:Middle School,MS Girls Basketball,Sports
END:VEVENT
BEGIN:VEVENT
DTSTART;TZID=America/Denver:20230925T160000
DTEND;TZID=America/Denver:20230925T170000
DTSTAMP:20260421T082214
CREATED:20230901T011924Z
LAST-MODIFIED:20231009T232422Z
UID:10004502-1695657600-1695661200@heritagechmaint.devtest.center
SUMMARY:MSBSoc Playoffs Quarterfinals
DESCRIPTION:
URL:https://heritagechmaint.devtest.center/event/msbsoc-playoffs-quarterfinals/
CATEGORIES:A,Middle School,MS Boys Basketball,Sports,Team Level
END:VEVENT
BEGIN:VEVENT
DTSTART;TZID=America/Denver:20230922T163000
DTEND;TZID=America/Denver:20230922T173000
DTSTAMP:20260421T082214
CREATED:20230831T235212Z
LAST-MODIFIED:20230831T235212Z
UID:10004340-1695400200-1695403800@heritagechmaint.devtest.center
SUMMARY:HSBSoc vs Skyview* 4:30 (Homecoming)
DESCRIPTION:
URL:https://heritagechmaint.devtest.center/event/hsbsoc-vs-skyview-430-homecoming/
CATEGORIES:High School,HS Boys Soccer,Sports,Team Level,Varsity
END:VEVENT
BEGIN:VEVENT
DTSTART;TZID=America/Denver:20230921T180000
DTEND;TZID=America/Denver:20230921T190000
DTSTAMP:20260421T082214
CREATED:20230901T010627Z
LAST-MODIFIED:20230901T010627Z
UID:10004431-1695319200-1695322800@heritagechmaint.devtest.center
SUMMARY:HSGV vs Campion (Homecoming)
DESCRIPTION:
URL:https://heritagechmaint.devtest.center/event/hsgv-vs-campion-homecoming-2/
CATEGORIES:High School,HS Girls Volleyball,JV,Sports,Team Level
END:VEVENT
BEGIN:VEVENT
DTSTART;TZID=America/Denver:20230921T160000
DTEND;TZID=America/Denver:20230921T170000
DTSTAMP:20260421T082214
CREATED:20230901T011725Z
LAST-MODIFIED:20231009T232439Z
UID:10004501-1695312000-1695315600@heritagechmaint.devtest.center
SUMMARY:MSBSoc vs Windsor Charter
DESCRIPTION:
URL:https://heritagechmaint.devtest.center/event/msbsoc-vs-windsor-charter/
CATEGORIES:A,Middle School,MS Boys Basketball,Sports,Team Level
END:VEVENT
BEGIN:VEVENT
DTSTART;TZID=America/Denver:20230921T071500
DTEND;TZID=America/Denver:20230921T081500
DTSTAMP:20260421T082214
CREATED:20230901T010627Z
LAST-MODIFIED:20230901T010627Z
UID:10004430-1695280500-1695284100@heritagechmaint.devtest.center
SUMMARY:HSGV vs Campion (Homecoming)
DESCRIPTION:
URL:https://heritagechmaint.devtest.center/event/hsgv-vs-campion-homecoming/
CATEGORIES:High School,HS Girls Volleyball,Sports,Team Level,Varsity
END:VEVENT
BEGIN:VEVENT
DTSTART;TZID=America/Denver:20230919T180000
DTEND;TZID=America/Denver:20230919T190000
DTSTAMP:20260421T082214
CREATED:20230901T010626Z
LAST-MODIFIED:20230901T010626Z
UID:10004429-1695146400-1695150000@heritagechmaint.devtest.center
SUMMARY:HSGV vs Denver Academy (JV) 5:00
DESCRIPTION:
URL:https://heritagechmaint.devtest.center/event/hsgv-vs-denver-academy-jv-500/
CATEGORIES:High School,HS Girls Volleyball,JV,Sports,Team Level
END:VEVENT
BEGIN:VEVENT
DTSTART;TZID=America/Denver:20230919T170000
DTEND;TZID=America/Denver:20230919T180000
DTSTAMP:20260421T082214
CREATED:20230901T022756Z
LAST-MODIFIED:20230901T022756Z
UID:10004578-1695142800-1695146400@heritagechmaint.devtest.center
SUMMARY:HSGV vs Denver Academy
DESCRIPTION:
URL:https://heritagechmaint.devtest.center/event/hsgv-vs-denver-academy/
CATEGORIES:High School,HS Girls Volleyball,JV,Sports,Team Level
END:VEVENT
BEGIN:VEVENT
DTSTART;TZID=America/Denver:20230919T160000
DTEND;TZID=America/Denver:20230919T170000
DTSTAMP:20260421T082214
CREATED:20230831T235212Z
LAST-MODIFIED:20230831T235212Z
UID:10004339-1695139200-1695142800@heritagechmaint.devtest.center
SUMMARY:HSBSoc at Frontier
DESCRIPTION:
URL:https://heritagechmaint.devtest.center/event/hsbsoc-at-frontier/
CATEGORIES:High School,HS Boys Soccer,Sports,Team Level,Varsity
END:VEVENT
BEGIN:VEVENT
DTSTART;TZID=America/Denver:20230918T160000
DTEND;TZID=America/Denver:20230918T170000
DTSTAMP:20260421T082214
CREATED:20230901T011725Z
LAST-MODIFIED:20231009T232456Z
UID:10004500-1695052800-1695056400@heritagechmaint.devtest.center
SUMMARY:MSBSoc at Loveland Classical
DESCRIPTION:
URL:https://heritagechmaint.devtest.center/event/msbsoc-at-loveland-classical/
CATEGORIES:A,Middle School,MS Boys Basketball,Sports,Team Level
END:VEVENT
END:VCALENDAR