BEGIN:VCALENDAR
VERSION:2.0
PRODID:-//Heritage Christian Academy - ECPv6.15.17.1//NONSGML v1.0//EN
CALSCALE:GREGORIAN
METHOD:PUBLISH
X-ORIGINAL-URL:https://heritagechmaint.devtest.center
X-WR-CALDESC:Events for Heritage Christian Academy
REFRESH-INTERVAL;VALUE=DURATION:PT1H
X-Robots-Tag:noindex
X-PUBLISHED-TTL:PT1H
BEGIN:VTIMEZONE
TZID:America/Denver
BEGIN:DAYLIGHT
TZOFFSETFROM:-0700
TZOFFSETTO:-0600
TZNAME:MDT
DTSTART:20220313T090000
END:DAYLIGHT
BEGIN:STANDARD
TZOFFSETFROM:-0600
TZOFFSETTO:-0700
TZNAME:MST
DTSTART:20221106T080000
END:STANDARD
BEGIN:DAYLIGHT
TZOFFSETFROM:-0700
TZOFFSETTO:-0600
TZNAME:MDT
DTSTART:20230312T090000
END:DAYLIGHT
BEGIN:STANDARD
TZOFFSETFROM:-0600
TZOFFSETTO:-0700
TZNAME:MST
DTSTART:20231105T080000
END:STANDARD
BEGIN:DAYLIGHT
TZOFFSETFROM:-0700
TZOFFSETTO:-0600
TZNAME:MDT
DTSTART:20240310T090000
END:DAYLIGHT
BEGIN:STANDARD
TZOFFSETFROM:-0600
TZOFFSETTO:-0700
TZNAME:MST
DTSTART:20241103T080000
END:STANDARD
END:VTIMEZONE
BEGIN:VEVENT
DTSTART;TZID=America/Denver:20231026T170000
DTEND;TZID=America/Denver:20231026T180000
DTSTAMP:20260419T224732
CREATED:20230901T014619Z
LAST-MODIFIED:20230901T014619Z
UID:10004576-1698339600-1698343200@heritagechmaint.devtest.center
SUMMARY:HSGV vs Clear Creek
DESCRIPTION:
URL:https://heritagechmaint.devtest.center/event/hsgv-vs-clear-creek-4/
CATEGORIES:High School,HS Girls Volleyball,JV,Sports,Team Level
END:VEVENT
BEGIN:VEVENT
DTSTART;TZID=America/Denver:20231026T160000
DTEND;TZID=America/Denver:20231026T190000
DTSTAMP:20260419T224732
CREATED:20230901T010828Z
LAST-MODIFIED:20230901T010828Z
UID:10004454-1698336000-1698346800@heritagechmaint.devtest.center
SUMMARY:HSGV vs Clear Creek
DESCRIPTION:
URL:https://heritagechmaint.devtest.center/event/hsgv-vs-clear-creek-3/
CATEGORIES:High School,HS Girls Volleyball,Sports,Team Level,Varsity
END:VEVENT
BEGIN:VEVENT
DTSTART;TZID=America/Denver:20231024T180000
DTEND;TZID=America/Denver:20231024T190000
DTSTAMP:20260419T224732
CREATED:20230901T010819Z
LAST-MODIFIED:20230901T010819Z
UID:10004449-1698170400-1698174000@heritagechmaint.devtest.center
SUMMARY:HSGV at Dayspring*
DESCRIPTION:
URL:https://heritagechmaint.devtest.center/event/hsgv-at-dayspring/
CATEGORIES:High School,HS Girls Volleyball,Sports,Team Level,Varsity
END:VEVENT
BEGIN:VEVENT
DTSTART;TZID=America/Denver:20231024T180000
DTEND;TZID=America/Denver:20231024T190000
DTSTAMP:20260419T224732
CREATED:20230901T010819Z
LAST-MODIFIED:20230901T010819Z
UID:10004450-1698170400-1698174000@heritagechmaint.devtest.center
SUMMARY:HSGV at Dayspring*
DESCRIPTION:
URL:https://heritagechmaint.devtest.center/event/hsgv-at-dayspring-2/
CATEGORIES:High School,HS Girls Volleyball,JV,Sports,Team Level
END:VEVENT
BEGIN:VEVENT
DTSTART;TZID=America/Denver:20231024T170000
DTEND;TZID=America/Denver:20231024T180000
DTSTAMP:20260419T224732
CREATED:20230901T014536Z
LAST-MODIFIED:20230901T014536Z
UID:10004575-1698166800-1698170400@heritagechmaint.devtest.center
SUMMARY:HSGV at Dayspring*
DESCRIPTION:
URL:https://heritagechmaint.devtest.center/event/hsgv-at-dayspring-4/
CATEGORIES:High School,HS Girls Volleyball,JV,Sports,Team Level
END:VEVENT
BEGIN:VEVENT
DTSTART;TZID=America/Denver:20231024T160000
DTEND;TZID=America/Denver:20231024T190000
DTSTAMP:20260419T224732
CREATED:20230901T010826Z
LAST-MODIFIED:20230901T010826Z
UID:10004451-1698163200-1698174000@heritagechmaint.devtest.center
SUMMARY:HSGV at Dayspring*
DESCRIPTION:
URL:https://heritagechmaint.devtest.center/event/hsgv-at-dayspring-3/
CATEGORIES:High School,HS Girls Volleyball,Sports,Team Level,Varsity
END:VEVENT
BEGIN:VEVENT
DTSTART;TZID=America/Denver:20231021T160000
DTEND;TZID=America/Denver:20231021T170000
DTSTAMP:20260419T224732
CREATED:20230831T235437Z
LAST-MODIFIED:20230831T235437Z
UID:10004349-1697904000-1697907600@heritagechmaint.devtest.center
SUMMARY:HSBSoc End of Regular Season
DESCRIPTION:
URL:https://heritagechmaint.devtest.center/event/hsbsoc-end-of-regular-season/
CATEGORIES:High School,HS Boys Soccer,Sports
END:VEVENT
BEGIN:VEVENT
DTSTART;TZID=America/Denver:20231019T160000
DTEND;TZID=America/Denver:20231019T170000
DTSTAMP:20260419T224732
CREATED:20230831T235436Z
LAST-MODIFIED:20230831T235436Z
UID:10004348-1697731200-1697734800@heritagechmaint.devtest.center
SUMMARY:HSBSoc at Campion*
DESCRIPTION:
URL:https://heritagechmaint.devtest.center/event/hsbsoc-at-campion/
CATEGORIES:High School,HS Boys Soccer,Sports,Team Level,Varsity
END:VEVENT
BEGIN:VEVENT
DTSTART;VALUE=DATE:20231019
DTEND;VALUE=DATE:20231020
DTSTAMP:20260419T224732
CREATED:20230901T000426Z
LAST-MODIFIED:20230901T000426Z
UID:10004364-1697673600-1697759999@heritagechmaint.devtest.center
SUMMARY:HSCC Regionals Playoffs - Lyons HS\, Lyons\, CO
DESCRIPTION:
URL:https://heritagechmaint.devtest.center/event/hscc-regionals-playoffs-lyons-hs-lyons-co/
CATEGORIES:High School,HS Cross Country,Sports,Team Level,Varsity
END:VEVENT
BEGIN:VEVENT
DTSTART;TZID=America/Denver:20231017T180000
DTEND;TZID=America/Denver:20231017T190000
DTSTAMP:20260419T224732
CREATED:20230901T010818Z
LAST-MODIFIED:20230901T010818Z
UID:10004447-1697565600-1697569200@heritagechmaint.devtest.center
SUMMARY:HSGV at Union Colony*
DESCRIPTION:
URL:https://heritagechmaint.devtest.center/event/hsgv-at-union-colony-2/
CATEGORIES:High School,HS Girls Volleyball,Sports,Team Level,Varsity
END:VEVENT
BEGIN:VEVENT
DTSTART;TZID=America/Denver:20231017T180000
DTEND;TZID=America/Denver:20231017T190000
DTSTAMP:20260419T224732
CREATED:20230901T010817Z
LAST-MODIFIED:20230901T010817Z
UID:10004446-1697565600-1697569200@heritagechmaint.devtest.center
SUMMARY:HSGV at Union Colony*
DESCRIPTION:
URL:https://heritagechmaint.devtest.center/event/hsgv-at-union-colony/
CATEGORIES:High School,HS Girls Volleyball,Sports,Team Level,Varsity
END:VEVENT
BEGIN:VEVENT
DTSTART;TZID=America/Denver:20231017T170000
DTEND;TZID=America/Denver:20231017T180000
DTSTAMP:20260419T224732
CREATED:20230901T014535Z
LAST-MODIFIED:20230901T014535Z
UID:10004574-1697562000-1697565600@heritagechmaint.devtest.center
SUMMARY:HSGV at Union Colony*
DESCRIPTION:
URL:https://heritagechmaint.devtest.center/event/hsgv-at-union-colony-4/
CATEGORIES:High School,HS Girls Volleyball,JV,Sports,Team Level
END:VEVENT
BEGIN:VEVENT
DTSTART;TZID=America/Denver:20231017T160000
DTEND;TZID=America/Denver:20231017T190000
DTSTAMP:20260419T224732
CREATED:20230901T010818Z
LAST-MODIFIED:20230901T010818Z
UID:10004448-1697558400-1697569200@heritagechmaint.devtest.center
SUMMARY:HSGV at Union Colony*
DESCRIPTION:
URL:https://heritagechmaint.devtest.center/event/hsgv-at-union-colony-3/
CATEGORIES:High School,HS Girls Volleyball,Sports,Team Level,Varsity
END:VEVENT
BEGIN:VEVENT
DTSTART;TZID=America/Denver:20231017T160000
DTEND;TZID=America/Denver:20231017T170000
DTSTAMP:20260419T224732
CREATED:20230831T235435Z
LAST-MODIFIED:20230831T235435Z
UID:10004347-1697558400-1697562000@heritagechmaint.devtest.center
SUMMARY:HSBSoc vs Nederland* (Senior Night)
DESCRIPTION:
URL:https://heritagechmaint.devtest.center/event/hsbsoc-vs-nederland-senior-night/
CATEGORIES:High School,HS Boys Soccer,Sports,Team Level,Varsity
END:VEVENT
BEGIN:VEVENT
DTSTART;TZID=America/Denver:20231012T180000
DTEND;TZID=America/Denver:20231012T190000
DTSTAMP:20260419T224732
CREATED:20230901T010800Z
LAST-MODIFIED:20230901T010800Z
UID:10004443-1697133600-1697137200@heritagechmaint.devtest.center
SUMMARY:HSGV at Machebuf*
DESCRIPTION:
URL:https://heritagechmaint.devtest.center/event/hsgv-at-machebuf/
CATEGORIES:High School,HS Girls Volleyball,Sports,Team Level,Varsity
END:VEVENT
BEGIN:VEVENT
DTSTART;TZID=America/Denver:20231012T180000
DTEND;TZID=America/Denver:20231012T190000
DTSTAMP:20260419T224732
CREATED:20230901T010800Z
LAST-MODIFIED:20230901T010800Z
UID:10004444-1697133600-1697137200@heritagechmaint.devtest.center
SUMMARY:HSGV at Machebuf*
DESCRIPTION:
URL:https://heritagechmaint.devtest.center/event/hsgv-at-machebuf-2/
CATEGORIES:High School,HS Girls Volleyball,JV,Sports,Team Level
END:VEVENT
BEGIN:VEVENT
DTSTART;TZID=America/Denver:20231012T170000
DTEND;TZID=America/Denver:20231012T180000
DTSTAMP:20260419T224732
CREATED:20230901T014418Z
LAST-MODIFIED:20230901T014418Z
UID:10004573-1697130000-1697133600@heritagechmaint.devtest.center
SUMMARY:HSGV at Machebuf*
DESCRIPTION:
URL:https://heritagechmaint.devtest.center/event/hsgv-at-machebuf-4/
CATEGORIES:High School,HS Girls Volleyball,JV,Sports,Team Level
END:VEVENT
BEGIN:VEVENT
DTSTART;TZID=America/Denver:20231012T160000
DTEND;TZID=America/Denver:20231012T190000
DTSTAMP:20260419T224732
CREATED:20230901T010801Z
LAST-MODIFIED:20230901T010801Z
UID:10004445-1697126400-1697137200@heritagechmaint.devtest.center
SUMMARY:HSGV at Machebuf*
DESCRIPTION:
URL:https://heritagechmaint.devtest.center/event/hsgv-at-machebuf-3/
CATEGORIES:High School,HS Girls Volleyball,Sports,Team Level,Varsity
END:VEVENT
BEGIN:VEVENT
DTSTART;TZID=America/Denver:20231012T160000
DTEND;TZID=America/Denver:20231012T170000
DTSTAMP:20260419T224732
CREATED:20230831T235350Z
LAST-MODIFIED:20230831T235350Z
UID:10004346-1697126400-1697130000@heritagechmaint.devtest.center
SUMMARY:HSBSoc at Denver Christian*
DESCRIPTION:
URL:https://heritagechmaint.devtest.center/event/hsbsoc-at-denver-christian/
CATEGORIES:High School,HS Boys Soccer,Sports,Team Level,Varsity
END:VEVENT
BEGIN:VEVENT
DTSTART;TZID=America/Denver:20231010T180000
DTEND;TZID=America/Denver:20231010T190000
DTSTAMP:20260419T224732
CREATED:20230901T010756Z
LAST-MODIFIED:20230901T010756Z
UID:10004441-1696960800-1696964400@heritagechmaint.devtest.center
SUMMARY:HSGV vs Dawson*
DESCRIPTION:
URL:https://heritagechmaint.devtest.center/event/hsgv-vs-dawson/
CATEGORIES:High School,HS Girls Volleyball,Sports,Team Level,Varsity
END:VEVENT
BEGIN:VEVENT
DTSTART;TZID=America/Denver:20231010T170000
DTEND;TZID=America/Denver:20231010T180000
DTSTAMP:20260419T224732
CREATED:20230901T014417Z
LAST-MODIFIED:20230901T014417Z
UID:10004572-1696957200-1696960800@heritagechmaint.devtest.center
SUMMARY:HSGV vs Dawson*
DESCRIPTION:
URL:https://heritagechmaint.devtest.center/event/hsgv-vs-dawson-3/
CATEGORIES:High School,HS Girls Volleyball,JV,Sports,Team Level
END:VEVENT
BEGIN:VEVENT
DTSTART;TZID=America/Denver:20231010T160000
DTEND;TZID=America/Denver:20231010T190000
DTSTAMP:20260419T224732
CREATED:20230901T010759Z
LAST-MODIFIED:20230901T010759Z
UID:10004442-1696953600-1696964400@heritagechmaint.devtest.center
SUMMARY:HSGV vs Dawson*
DESCRIPTION:
URL:https://heritagechmaint.devtest.center/event/hsgv-vs-dawson-2/
CATEGORIES:High School,HS Girls Volleyball,Sports,Team Level,Varsity
END:VEVENT
BEGIN:VEVENT
DTSTART;TZID=America/Denver:20231010T160000
DTEND;TZID=America/Denver:20231010T170000
DTSTAMP:20260419T224732
CREATED:20230831T235349Z
LAST-MODIFIED:20230831T235349Z
UID:10004345-1696953600-1696957200@heritagechmaint.devtest.center
SUMMARY:HSBSoc vs Denver Academy*
DESCRIPTION:
URL:https://heritagechmaint.devtest.center/event/hsbsoc-vs-denver-academy/
CATEGORIES:High School,HS Boys Soccer,Sports,Team Level,Varsity
END:VEVENT
BEGIN:VEVENT
DTSTART;VALUE=DATE:20231010
DTEND;VALUE=DATE:20231012
DTSTAMP:20260419T224732
CREATED:20230901T000425Z
LAST-MODIFIED:20230901T000425Z
UID:10004363-1696896000-1697068799@heritagechmaint.devtest.center
SUMMARY:HSCC Mile High League Meet - (Location TBD)
DESCRIPTION:
URL:https://heritagechmaint.devtest.center/event/hscc-mile-high-league-meet-location-tbd/
CATEGORIES:High School,HS Cross Country,Sports,Team Level,Varsity
END:VEVENT
BEGIN:VEVENT
DTSTART;TZID=America/Denver:20231005T160000
DTEND;TZID=America/Denver:20231005T170000
DTSTAMP:20260419T224732
CREATED:20230831T235349Z
LAST-MODIFIED:20230831T235349Z
UID:10004344-1696521600-1696525200@heritagechmaint.devtest.center
SUMMARY:HSBSoc at Bishop Machebuf*
DESCRIPTION:
URL:https://heritagechmaint.devtest.center/event/hsbsoc-at-bishop-machebuf/
CATEGORIES:High School,HS Boys Soccer,Sports,Team Level,Varsity
END:VEVENT
BEGIN:VEVENT
DTSTART;TZID=America/Denver:20231004T180000
DTEND;TZID=America/Denver:20231004T190000
DTSTAMP:20260419T224732
CREATED:20230901T010755Z
LAST-MODIFIED:20230901T010755Z
UID:10004438-1696442400-1696446000@heritagechmaint.devtest.center
SUMMARY:HSGV vs Front Range Christian*
DESCRIPTION:
URL:https://heritagechmaint.devtest.center/event/hsgv-vs-front-range-christian/
CATEGORIES:High School,HS Girls Volleyball,Sports,Team Level,Varsity
END:VEVENT
BEGIN:VEVENT
DTSTART;TZID=America/Denver:20231004T180000
DTEND;TZID=America/Denver:20231004T190000
DTSTAMP:20260419T224732
CREATED:20230901T010755Z
LAST-MODIFIED:20230901T010755Z
UID:10004439-1696442400-1696446000@heritagechmaint.devtest.center
SUMMARY:HSGV vs Front Range Christian*
DESCRIPTION:
URL:https://heritagechmaint.devtest.center/event/hsgv-vs-front-range-christian-2/
CATEGORIES:High School,HS Girls Volleyball,JV,Sports,Team Level
END:VEVENT
BEGIN:VEVENT
DTSTART;TZID=America/Denver:20231004T170000
DTEND;TZID=America/Denver:20231004T180000
DTSTAMP:20260419T224732
CREATED:20230901T014335Z
LAST-MODIFIED:20230901T014335Z
UID:10004571-1696438800-1696442400@heritagechmaint.devtest.center
SUMMARY:HSGV vs Front Range Christian*
DESCRIPTION:
URL:https://heritagechmaint.devtest.center/event/hsgv-vs-front-range-christian-4/
CATEGORIES:High School,HS Girls Volleyball,JV,Sports,Team Level
END:VEVENT
BEGIN:VEVENT
DTSTART;TZID=America/Denver:20231004T160000
DTEND;TZID=America/Denver:20231004T190000
DTSTAMP:20260419T224732
CREATED:20230901T010756Z
LAST-MODIFIED:20230901T010756Z
UID:10004440-1696435200-1696446000@heritagechmaint.devtest.center
SUMMARY:HSGV vs Front Range Christian*
DESCRIPTION:
URL:https://heritagechmaint.devtest.center/event/hsgv-vs-front-range-christian-3/
CATEGORIES:High School,HS Girls Volleyball,Sports,Team Level,Varsity
END:VEVENT
BEGIN:VEVENT
DTSTART;TZID=America/Denver:20231003T160000
DTEND;TZID=America/Denver:20231003T170000
DTSTAMP:20260419T224732
CREATED:20230831T235347Z
LAST-MODIFIED:20230831T235347Z
UID:10004343-1696348800-1696352400@heritagechmaint.devtest.center
SUMMARY:HSBSoc at Union Colony*
DESCRIPTION:
URL:https://heritagechmaint.devtest.center/event/hsbsoc-at-union-colony/
CATEGORIES:High School,HS Boys Soccer,Sports,Team Level,Varsity
END:VEVENT
END:VCALENDAR