BEGIN:VCALENDAR
VERSION:2.0
PRODID:-//Heritage Christian Academy - ECPv6.15.17.1//NONSGML v1.0//EN
CALSCALE:GREGORIAN
METHOD:PUBLISH
X-WR-CALNAME:Heritage Christian Academy
X-ORIGINAL-URL:https://heritagechmaint.devtest.center
X-WR-CALDESC:Events for Heritage Christian Academy
REFRESH-INTERVAL;VALUE=DURATION:PT1H
X-Robots-Tag:noindex
X-PUBLISHED-TTL:PT1H
BEGIN:VTIMEZONE
TZID:America/Denver
BEGIN:DAYLIGHT
TZOFFSETFROM:-0700
TZOFFSETTO:-0600
TZNAME:MDT
DTSTART:20220313T090000
END:DAYLIGHT
BEGIN:STANDARD
TZOFFSETFROM:-0600
TZOFFSETTO:-0700
TZNAME:MST
DTSTART:20221106T080000
END:STANDARD
BEGIN:DAYLIGHT
TZOFFSETFROM:-0700
TZOFFSETTO:-0600
TZNAME:MDT
DTSTART:20230312T090000
END:DAYLIGHT
BEGIN:STANDARD
TZOFFSETFROM:-0600
TZOFFSETTO:-0700
TZNAME:MST
DTSTART:20231105T080000
END:STANDARD
BEGIN:DAYLIGHT
TZOFFSETFROM:-0700
TZOFFSETTO:-0600
TZNAME:MDT
DTSTART:20240310T090000
END:DAYLIGHT
BEGIN:STANDARD
TZOFFSETFROM:-0600
TZOFFSETTO:-0700
TZNAME:MST
DTSTART:20241103T080000
END:STANDARD
END:VTIMEZONE
BEGIN:VEVENT
DTSTART;TZID=America/Denver:20230817T160000
DTEND;TZID=America/Denver:20230817T170000
DTSTAMP:20260423T094818
CREATED:20230901T010222Z
LAST-MODIFIED:20230901T022502Z
UID:10004413-1692288000-1692291600@heritagechmaint.devtest.center
SUMMARY:HSGV vs Windsor Charter
DESCRIPTION:
URL:https://heritagechmaint.devtest.center/event/hsgv-vs-windsor-charter-2/
CATEGORIES:High School,HS Girls Volleyball,Sports,Team Level,Varsity
END:VEVENT
BEGIN:VEVENT
DTSTART;TZID=America/Denver:20230812T160000
DTEND;TZID=America/Denver:20230812T170000
DTSTAMP:20260423T094818
CREATED:20230831T235203Z
LAST-MODIFIED:20230901T002257Z
UID:10004333-1691856000-1691859600@heritagechmaint.devtest.center
SUMMARY:HSBSoc First Scrimmage Date
DESCRIPTION:
URL:https://heritagechmaint.devtest.center/event/hsbsoc-first-scrimmage-date/
CATEGORIES:High School,HS Boys Soccer,Sports,Team Level,Varsity
END:VEVENT
BEGIN:VEVENT
DTSTART;VALUE=DATE:20230812
DTEND;VALUE=DATE:20230813
DTSTAMP:20260423T094818
CREATED:20230901T000217Z
LAST-MODIFIED:20230901T000217Z
UID:10004353-1691798400-1691884799@heritagechmaint.devtest.center
SUMMARY:HSCC Joint Practice with Peyton HS @ Spring Canyon
DESCRIPTION:
URL:https://heritagechmaint.devtest.center/event/hscc-joint-practice-with-peyton-hs-spring-canyon/
CATEGORIES:High School,HS Cross Country,Sports,Team Level,Varsity
END:VEVENT
BEGIN:VEVENT
DTSTART;TZID=America/Denver:20230807T180000
DTEND;TZID=America/Denver:20230807T190000
DTSTAMP:20260423T094818
CREATED:20230901T010220Z
LAST-MODIFIED:20230901T022500Z
UID:10004411-1691431200-1691434800@heritagechmaint.devtest.center
SUMMARY:HSGV First Formal Practice
DESCRIPTION:
URL:https://heritagechmaint.devtest.center/event/hsgv-first-formal-practice/
CATEGORIES:High School,HS Girls Volleyball,Sports
END:VEVENT
BEGIN:VEVENT
DTSTART;TZID=America/Denver:20230807T160000
DTEND;TZID=America/Denver:20230807T170000
DTSTAMP:20260423T094818
CREATED:20230831T235202Z
LAST-MODIFIED:20230901T002256Z
UID:10004332-1691424000-1691427600@heritagechmaint.devtest.center
SUMMARY:HSBSoc First Formal Practice
DESCRIPTION:
URL:https://heritagechmaint.devtest.center/event/hsbsoc-first-formal-practice/
CATEGORIES:High School,HS Boys Soccer,Sports,Team Level,Varsity
END:VEVENT
BEGIN:VEVENT
DTSTART;VALUE=DATE:20230807
DTEND;VALUE=DATE:20230808
DTSTAMP:20260423T094818
CREATED:20230901T000216Z
LAST-MODIFIED:20230901T000216Z
UID:10004352-1691366400-1691452799@heritagechmaint.devtest.center
SUMMARY:HSCC First Formal Practice
DESCRIPTION:
URL:https://heritagechmaint.devtest.center/event/hscc-first-formal-practice/
CATEGORIES:High School,HS Cross Country,Sports,Team Level,Varsity
END:VEVENT
BEGIN:VEVENT
DTSTART;TZID=America/Denver:20230803T170000
DTEND;TZID=America/Denver:20230803T180000
DTSTAMP:20260423T094818
CREATED:20230831T214347Z
LAST-MODIFIED:20230831T221721Z
UID:10004331-1691082000-1691085600@heritagechmaint.devtest.center
SUMMARY:test sports
DESCRIPTION:Event description has been updated
URL:https://heritagechmaint.devtest.center/event/test-sports-3/
LOCATION:Heritage Christian Academy\, 2506 Zurich Dr. #1\, Fort Collins\, CO\, 80524\, United States
CATEGORIES:High School,Sports,Team Level,Varsity
END:VEVENT
END:VCALENDAR