BEGIN:VCALENDAR
VERSION:2.0
PRODID:-//Heritage Christian Academy - ECPv6.15.17.1//NONSGML v1.0//EN
CALSCALE:GREGORIAN
METHOD:PUBLISH
X-WR-CALNAME:Heritage Christian Academy
X-ORIGINAL-URL:https://heritagechmaint.devtest.center
X-WR-CALDESC:Events for Heritage Christian Academy
REFRESH-INTERVAL;VALUE=DURATION:PT1H
X-Robots-Tag:noindex
X-PUBLISHED-TTL:PT1H
BEGIN:VTIMEZONE
TZID:UTC
BEGIN:STANDARD
TZOFFSETFROM:+0000
TZOFFSETTO:+0000
TZNAME:UTC
DTSTART:20170101T000000
END:STANDARD
END:VTIMEZONE
BEGIN:VEVENT
DTSTART;TZID=UTC:20211220T000000
DTEND;TZID=UTC:20220101T000000
DTSTAMP:20260422T080724
CREATED:20230801T195424Z
LAST-MODIFIED:20230801T195424Z
UID:10000113-1639958400-1640995200@heritagechmaint.devtest.center
SUMMARY:Christmas Break -- NO SCHOOL
DESCRIPTION:
URL:https://heritagechmaint.devtest.center/event/christmas-break-no-school-2021/
CATEGORIES:School Days
END:VEVENT
BEGIN:VEVENT
DTSTART;TZID=UTC:20211124T000000
DTEND;TZID=UTC:20211127T000000
DTSTAMP:20260422T080724
CREATED:20230731T134406Z
LAST-MODIFIED:20230731T134406Z
UID:10000103-1637712000-1637971200@heritagechmaint.devtest.center
SUMMARY:Thanksgiving Break -- NO SCHOOL
DESCRIPTION:
URL:https://heritagechmaint.devtest.center/event/thanksgiving-break-no-school-2021/
CATEGORIES:School Days
END:VEVENT
BEGIN:VEVENT
DTSTART;TZID=UTC:20211015T000000
DTEND;TZID=UTC:20211020T235900
DTSTAMP:20260422T080724
CREATED:20230731T134725Z
LAST-MODIFIED:20230731T134725Z
UID:10000104-1634256000-1634774340@heritagechmaint.devtest.center
SUMMARY:Fall Break -- No School
DESCRIPTION:
URL:https://heritagechmaint.devtest.center/event/fall-break-no-school-2021/
CATEGORIES:School Days
END:VEVENT
BEGIN:VEVENT
DTSTART;TZID=UTC:20210402T080000
DTEND;TZID=UTC:20210405T180000
DTSTAMP:20260422T080724
CREATED:20230731T155822Z
LAST-MODIFIED:20230731T184742Z
UID:10000109-1617350400-1617645600@heritagechmaint.devtest.center
SUMMARY:Easter Break
DESCRIPTION:
URL:https://heritagechmaint.devtest.center/event/easter-break-2021/
CATEGORIES:School Days
END:VEVENT
BEGIN:VEVENT
DTSTART;TZID=UTC:20210312T080000
DTEND;TZID=UTC:20210312T113000
DTSTAMP:20260422T080724
CREATED:20230731T192304Z
LAST-MODIFIED:20230731T192535Z
UID:10000153-1615536000-1615548600@heritagechmaint.devtest.center
SUMMARY:3rd Quarter Ends - Half Day
DESCRIPTION:
URL:https://heritagechmaint.devtest.center/event/3rd-quarter-ends-half-day/
CATEGORIES:School Days
END:VEVENT
BEGIN:VEVENT
DTSTART;TZID=UTC:20201221T080000
DTEND;TZID=UTC:20210104T180000
DTSTAMP:20260422T080724
CREATED:20230731T195000Z
LAST-MODIFIED:20230731T195000Z
UID:10000160-1608537600-1609783200@heritagechmaint.devtest.center
SUMMARY:Christmas Break - No School
DESCRIPTION:
URL:https://heritagechmaint.devtest.center/event/christmas-break-no-school/
CATEGORIES:School Days
END:VEVENT
BEGIN:VEVENT
DTSTART;TZID=UTC:20201214T080000
DTEND;TZID=UTC:20201218T000000
DTSTAMP:20260422T080724
CREATED:20230731T203322Z
LAST-MODIFIED:20230731T203322Z
UID:10000171-1607932800-1608249600@heritagechmaint.devtest.center
SUMMARY:Secondary Finals
DESCRIPTION:
URL:https://heritagechmaint.devtest.center/event/secondary-finals-2020/
CATEGORIES:School Days
END:VEVENT
BEGIN:VEVENT
DTSTART;TZID=UTC:20201125T080000
DTEND;TZID=UTC:20201129T180000
DTSTAMP:20260422T080724
CREATED:20230731T203757Z
LAST-MODIFIED:20230731T203757Z
UID:10000172-1606291200-1606672800@heritagechmaint.devtest.center
SUMMARY:Thanksgiving Break -- NO SCHOOL
DESCRIPTION:
URL:https://heritagechmaint.devtest.center/event/thanksgiving-break-no-school/
CATEGORIES:School Days
END:VEVENT
BEGIN:VEVENT
DTSTART;TZID=UTC:20201009T080000
DTEND;TZID=UTC:20201012T180000
DTSTAMP:20260422T080724
CREATED:20230801T130750Z
LAST-MODIFIED:20230801T130750Z
UID:10000188-1602230400-1602525600@heritagechmaint.devtest.center
SUMMARY:Fall Break
DESCRIPTION:
URL:https://heritagechmaint.devtest.center/event/2020-fall-break/
CATEGORIES:School Days
END:VEVENT
BEGIN:VEVENT
DTSTART;TZID=UTC:20200410T080000
DTEND;TZID=UTC:20200413T180000
DTSTAMP:20260422T080724
CREATED:20230801T133731Z
LAST-MODIFIED:20230801T133731Z
UID:10000197-1586505600-1586800800@heritagechmaint.devtest.center
SUMMARY:Easter Break (no school)
DESCRIPTION:
URL:https://heritagechmaint.devtest.center/event/easter-break-no-school/
CATEGORIES:School Days
END:VEVENT
BEGIN:VEVENT
DTSTART;TZID=UTC:20200316T080000
DTEND;TZID=UTC:20200320T180000
DTSTAMP:20260422T080724
CREATED:20230801T141136Z
LAST-MODIFIED:20230801T141136Z
UID:10000203-1584345600-1584727200@heritagechmaint.devtest.center
SUMMARY:Spring Break (no school)
DESCRIPTION:
URL:https://heritagechmaint.devtest.center/event/spring-break-no-school-2020/
CATEGORIES:School Days
END:VEVENT
BEGIN:VEVENT
DTSTART;TZID=UTC:20191223T080000
DTEND;TZID=UTC:20200103T180000
DTSTAMP:20260422T080724
CREATED:20230801T142319Z
LAST-MODIFIED:20230801T194926Z
UID:10000695-1577088000-1578074400@heritagechmaint.devtest.center
SUMMARY:Christmas Break (no school)
DESCRIPTION:
URL:https://heritagechmaint.devtest.center/event/christmas-break-no-school-2019/
CATEGORIES:School Days
END:VEVENT
BEGIN:VEVENT
DTSTART;TZID=UTC:20191127T000000
DTEND;TZID=UTC:20191130T000000
DTSTAMP:20260422T080724
CREATED:20230801T183612Z
LAST-MODIFIED:20230801T183612Z
UID:10004257-1574812800-1575072000@heritagechmaint.devtest.center
SUMMARY:Thanksgiving Vacation - No School
DESCRIPTION:Thanksgiving  Vacation\nNo School
URL:https://heritagechmaint.devtest.center/event/thanksgiving-vacation-no-school-2019/
CATEGORIES:School Days
END:VEVENT
BEGIN:VEVENT
DTSTART;TZID=UTC:20191011T000000
DTEND;TZID=UTC:20191015T000000
DTSTAMP:20260422T080724
CREATED:20230801T193239Z
LAST-MODIFIED:20230801T193259Z
UID:10004276-1570752000-1571097600@heritagechmaint.devtest.center
SUMMARY:Fall Break
DESCRIPTION:
URL:https://heritagechmaint.devtest.center/event/fall-break-2019/
CATEGORIES:School Days
END:VEVENT
BEGIN:VEVENT
DTSTART;TZID=UTC:20190318T000000
DTEND;TZID=UTC:20190322T000000
DTSTAMP:20260422T080724
CREATED:20230801T142038Z
LAST-MODIFIED:20230801T142038Z
UID:10000694-1552867200-1553212800@heritagechmaint.devtest.center
SUMMARY:Spring Break
DESCRIPTION:Spring Break\nNo School
URL:https://heritagechmaint.devtest.center/event/spring-break/
CATEGORIES:School Days
END:VEVENT
BEGIN:VEVENT
DTSTART;TZID=UTC:20190101T000000
DTEND;TZID=UTC:20190104T000000
DTSTAMP:20260422T080724
CREATED:20230801T173825Z
LAST-MODIFIED:20230801T173825Z
UID:10000730-1546300800-1546560000@heritagechmaint.devtest.center
SUMMARY:No School
DESCRIPTION:No School
URL:https://heritagechmaint.devtest.center/event/no-school-01-04-january-19/
CATEGORIES:School Days
END:VEVENT
BEGIN:VEVENT
DTSTART;TZID=UTC:20181121T000000
DTEND;TZID=UTC:20181123T000000
DTSTAMP:20260422T080724
CREATED:20230801T183240Z
LAST-MODIFIED:20230801T183240Z
UID:10004256-1542758400-1542931200@heritagechmaint.devtest.center
SUMMARY:Thanksgiving Vacation
DESCRIPTION:Thanksgiving  Vacation\nNo School
URL:https://heritagechmaint.devtest.center/event/thanksgiving-vacation/
CATEGORIES:School Days
END:VEVENT
END:VCALENDAR