BEGIN:VCALENDAR
VERSION:2.0
PRODID:-//Heritage Christian Academy - ECPv6.15.17.1//NONSGML v1.0//EN
CALSCALE:GREGORIAN
METHOD:PUBLISH
X-WR-CALNAME:Heritage Christian Academy
X-ORIGINAL-URL:https://heritagechmaint.devtest.center
X-WR-CALDESC:Events for Heritage Christian Academy
REFRESH-INTERVAL;VALUE=DURATION:PT1H
X-Robots-Tag:noindex
X-PUBLISHED-TTL:PT1H
BEGIN:VTIMEZONE
TZID:America/Denver
BEGIN:DAYLIGHT
TZOFFSETFROM:-0700
TZOFFSETTO:-0600
TZNAME:MDT
DTSTART:20220313T090000
END:DAYLIGHT
BEGIN:STANDARD
TZOFFSETFROM:-0600
TZOFFSETTO:-0700
TZNAME:MST
DTSTART:20221106T080000
END:STANDARD
BEGIN:DAYLIGHT
TZOFFSETFROM:-0700
TZOFFSETTO:-0600
TZNAME:MDT
DTSTART:20230312T090000
END:DAYLIGHT
BEGIN:STANDARD
TZOFFSETFROM:-0600
TZOFFSETTO:-0700
TZNAME:MST
DTSTART:20231105T080000
END:STANDARD
BEGIN:DAYLIGHT
TZOFFSETFROM:-0700
TZOFFSETTO:-0600
TZNAME:MDT
DTSTART:20240310T090000
END:DAYLIGHT
BEGIN:STANDARD
TZOFFSETFROM:-0600
TZOFFSETTO:-0700
TZNAME:MST
DTSTART:20241103T080000
END:STANDARD
BEGIN:DAYLIGHT
TZOFFSETFROM:-0700
TZOFFSETTO:-0600
TZNAME:MDT
DTSTART:20250309T090000
END:DAYLIGHT
BEGIN:STANDARD
TZOFFSETFROM:-0600
TZOFFSETTO:-0700
TZNAME:MST
DTSTART:20251102T080000
END:STANDARD
END:VTIMEZONE
BEGIN:VTIMEZONE
TZID:America/Chicago
BEGIN:DAYLIGHT
TZOFFSETFROM:-0600
TZOFFSETTO:-0500
TZNAME:CDT
DTSTART:20220313T080000
END:DAYLIGHT
BEGIN:STANDARD
TZOFFSETFROM:-0500
TZOFFSETTO:-0600
TZNAME:CST
DTSTART:20221106T070000
END:STANDARD
BEGIN:DAYLIGHT
TZOFFSETFROM:-0600
TZOFFSETTO:-0500
TZNAME:CDT
DTSTART:20230312T080000
END:DAYLIGHT
BEGIN:STANDARD
TZOFFSETFROM:-0500
TZOFFSETTO:-0600
TZNAME:CST
DTSTART:20231105T070000
END:STANDARD
BEGIN:DAYLIGHT
TZOFFSETFROM:-0600
TZOFFSETTO:-0500
TZNAME:CDT
DTSTART:20240310T080000
END:DAYLIGHT
BEGIN:STANDARD
TZOFFSETFROM:-0500
TZOFFSETTO:-0600
TZNAME:CST
DTSTART:20241103T070000
END:STANDARD
END:VTIMEZONE
BEGIN:VTIMEZONE
TZID:UTC
BEGIN:STANDARD
TZOFFSETFROM:+0000
TZOFFSETTO:+0000
TZNAME:UTC
DTSTART:20210101T000000
END:STANDARD
END:VTIMEZONE
BEGIN:VEVENT
DTSTART;TZID=America/Denver:20241024T130000
DTEND;TZID=America/Denver:20241024T180000
DTSTAMP:20260421T192558
CREATED:20241004T150914Z
LAST-MODIFIED:20241004T150914Z
UID:10004591-1729774800-1729792800@heritagechmaint.devtest.center
SUMMARY:Parent Teacher Conferences (1/2 Day)
DESCRIPTION:
URL:https://heritagechmaint.devtest.center/event/parent-teacher-conferences-1-2-day/
CATEGORIES:School Days
END:VEVENT
BEGIN:VEVENT
DTSTART;VALUE=DATE:20241015
DTEND;VALUE=DATE:20241016
DTSTAMP:20260421T192558
CREATED:20241004T150723Z
LAST-MODIFIED:20241004T150723Z
UID:10004590-1728950400-1729036799@heritagechmaint.devtest.center
SUMMARY:2nd Qtr Begins
DESCRIPTION:
URL:https://heritagechmaint.devtest.center/event/2nd-qtr-begins/
CATEGORIES:School Days
END:VEVENT
BEGIN:VEVENT
DTSTART;VALUE=DATE:20241011
DTEND;VALUE=DATE:20241015
DTSTAMP:20260421T192558
CREATED:20241004T150553Z
LAST-MODIFIED:20241007T162752Z
UID:10004589-1728604800-1728950399@heritagechmaint.devtest.center
SUMMARY:Fall Break (No School)
DESCRIPTION:
URL:https://heritagechmaint.devtest.center/event/fall-break-3/
CATEGORIES:School Days
END:VEVENT
BEGIN:VEVENT
DTSTART;VALUE=DATE:20241010
DTEND;VALUE=DATE:20241011
DTSTAMP:20260421T192558
CREATED:20241004T150449Z
LAST-MODIFIED:20241004T150750Z
UID:10004588-1728518400-1728604799@heritagechmaint.devtest.center
SUMMARY:1st Qtr Ends (1/2 Day)
DESCRIPTION:
URL:https://heritagechmaint.devtest.center/event/end-of-1st-qtr-1-2-day/
CATEGORIES:School Days
END:VEVENT
BEGIN:VEVENT
DTSTART;VALUE=DATE:20240524
DTEND;VALUE=DATE:20240525
DTSTAMP:20260421T192558
CREATED:20240317T224857Z
LAST-MODIFIED:20240317T225149Z
UID:10004583-1716508800-1716595199@heritagechmaint.devtest.center
SUMMARY:Last Day of School; 1/2 Day
DESCRIPTION:
URL:https://heritagechmaint.devtest.center/event/last-day-of-school-1-2-day-2/
CATEGORIES:School Days
END:VEVENT
BEGIN:VEVENT
DTSTART;VALUE=DATE:20240329
DTEND;VALUE=DATE:20240402
DTSTAMP:20260421T192558
CREATED:20230825T172709Z
LAST-MODIFIED:20230825T172709Z
UID:10004317-1711670400-1712015999@heritagechmaint.devtest.center
SUMMARY:Easter Break -- No School
DESCRIPTION:
URL:https://heritagechmaint.devtest.center/event/easter-break-no-school-2/
LOCATION:Heritage Christian Academy\, 2506 Zurich Dr. #1\, Fort Collins\, CO\, 80524\, United States
CATEGORIES:School Days
END:VEVENT
BEGIN:VEVENT
DTSTART;VALUE=DATE:20240311
DTEND;VALUE=DATE:20240316
DTSTAMP:20260421T192558
CREATED:20230825T171527Z
LAST-MODIFIED:20230825T171527Z
UID:10004315-1710115200-1710547199@heritagechmaint.devtest.center
SUMMARY:Spring Break
DESCRIPTION:
URL:https://heritagechmaint.devtest.center/event/spring-break-2/
CATEGORIES:School Days
END:VEVENT
BEGIN:VEVENT
DTSTART;VALUE=DATE:20240308
DTEND;VALUE=DATE:20240309
DTSTAMP:20260421T192558
CREATED:20230825T171436Z
LAST-MODIFIED:20230825T171436Z
UID:10004314-1709856000-1709942399@heritagechmaint.devtest.center
SUMMARY:3rd Qtr Ends; 1/2 Day
DESCRIPTION:
URL:https://heritagechmaint.devtest.center/event/3rd-qtr-ends-1-2-day/
CATEGORIES:School Days
END:VEVENT
BEGIN:VEVENT
DTSTART;VALUE=DATE:20240219
DTEND;VALUE=DATE:20240220
DTSTAMP:20260421T192558
CREATED:20230824T231912Z
LAST-MODIFIED:20230824T231912Z
UID:10004313-1708300800-1708387199@heritagechmaint.devtest.center
SUMMARY:President's Day -- No School
DESCRIPTION:
URL:https://heritagechmaint.devtest.center/event/presidents-day-no-school/
LOCATION:Heritage Christian Academy\, 2506 Zurich Dr. #1\, Fort Collins\, CO\, 80524\, United States
CATEGORIES:School Days
END:VEVENT
BEGIN:VEVENT
DTSTART;VALUE=DATE:20240216
DTEND;VALUE=DATE:20240217
DTSTAMP:20260421T192558
CREATED:20230824T231751Z
LAST-MODIFIED:20230824T231751Z
UID:10004312-1708041600-1708127999@heritagechmaint.devtest.center
SUMMARY:Teacher In-Service -- No School
DESCRIPTION:
URL:https://heritagechmaint.devtest.center/event/teacher-in-service-no-school/
LOCATION:Heritage Christian Academy\, 2506 Zurich Dr. #1\, Fort Collins\, CO\, 80524\, United States
CATEGORIES:School Days
END:VEVENT
BEGIN:VEVENT
DTSTART;TZID=America/Denver:20240215T080000
DTEND;TZID=America/Denver:20240215T180000
DTSTAMP:20260421T192558
CREATED:20230825T173118Z
LAST-MODIFIED:20230825T173118Z
UID:10004320-1707984000-1708020000@heritagechmaint.devtest.center
SUMMARY:Parent/Teacher Conf (No School)
DESCRIPTION:
URL:https://heritagechmaint.devtest.center/event/parent-teacher-conf-no-school/
LOCATION:Heritage Christian Academy\, 2506 Zurich Dr. #1\, Fort Collins\, CO\, 80524\, United States
CATEGORIES:School Days
END:VEVENT
BEGIN:VEVENT
DTSTART;VALUE=DATE:20240115
DTEND;VALUE=DATE:20240116
DTSTAMP:20260421T192558
CREATED:20230824T231436Z
LAST-MODIFIED:20230824T231436Z
UID:10004310-1705276800-1705363199@heritagechmaint.devtest.center
SUMMARY:MLK Day; No School
DESCRIPTION:
URL:https://heritagechmaint.devtest.center/event/mlk-day-no-school/
LOCATION:Heritage Christian Academy\, 2506 Zurich Dr. #1\, Fort Collins\, CO\, 80524\, United States
CATEGORIES:School Days
END:VEVENT
BEGIN:VEVENT
DTSTART;VALUE=DATE:20240109
DTEND;VALUE=DATE:20240110
DTSTAMP:20260421T192558
CREATED:20230824T231341Z
LAST-MODIFIED:20230824T231341Z
UID:10004309-1704758400-1704844799@heritagechmaint.devtest.center
SUMMARY:School Resumes; 3rd Qtr begins
DESCRIPTION:
URL:https://heritagechmaint.devtest.center/event/school-resumes-3rd-qtr-begins/
LOCATION:Heritage Christian Academy\, 2506 Zurich Dr. #1\, Fort Collins\, CO\, 80524\, United States
CATEGORIES:School Days
END:VEVENT
BEGIN:VEVENT
DTSTART;VALUE=DATE:20240108
DTEND;VALUE=DATE:20240109
DTSTAMP:20260421T192558
CREATED:20230824T231225Z
LAST-MODIFIED:20230824T231225Z
UID:10004308-1704672000-1704758399@heritagechmaint.devtest.center
SUMMARY:Teacher Work Day -- No School
DESCRIPTION:
URL:https://heritagechmaint.devtest.center/event/teacher-work-day-no-school/
LOCATION:Heritage Christian Academy\, 2506 Zurich Dr. #1\, Fort Collins\, CO\, 80524\, United States
CATEGORIES:School Days
END:VEVENT
BEGIN:VEVENT
DTSTART;VALUE=DATE:20231222
DTEND;VALUE=DATE:20240109
DTSTAMP:20260421T192558
CREATED:20230824T230915Z
LAST-MODIFIED:20231107T231517Z
UID:10004307-1703203200-1704758399@heritagechmaint.devtest.center
SUMMARY:Christmas Break -- No School
DESCRIPTION:
URL:https://heritagechmaint.devtest.center/event/christmas-break-no-school-2/
LOCATION:Heritage Christian Academy\, 2506 Zurich Dr. #1\, Fort Collins\, CO\, 80524\, United States
CATEGORIES:School Days
END:VEVENT
BEGIN:VEVENT
DTSTART;VALUE=DATE:20231221
DTEND;VALUE=DATE:20231222
DTSTAMP:20260421T192558
CREATED:20230824T230749Z
LAST-MODIFIED:20230824T230749Z
UID:10004306-1703116800-1703203199@heritagechmaint.devtest.center
SUMMARY:End of Second QTR; Christmas Vacation --1/2 Day
DESCRIPTION:
URL:https://heritagechmaint.devtest.center/event/end-of-second-qtr-christmas-vacation-1-2-day/
CATEGORIES:School Days
END:VEVENT
BEGIN:VEVENT
DTSTART;VALUE=DATE:20231120
DTEND;VALUE=DATE:20231125
DTSTAMP:20260421T192558
CREATED:20230824T152843Z
LAST-MODIFIED:20230824T152843Z
UID:10004303-1700438400-1700870399@heritagechmaint.devtest.center
SUMMARY:Thanksgiving Vacation
DESCRIPTION:
URL:https://heritagechmaint.devtest.center/event/thanksgiving-vacation-2/
LOCATION:Heritage Christian Academy\, 2506 Zurich Dr. #1\, Fort Collins\, CO\, 80524\, United States
CATEGORIES:School Days
END:VEVENT
BEGIN:VEVENT
DTSTART;VALUE=DATE:20231027
DTEND;VALUE=DATE:20231028
DTSTAMP:20260421T192558
CREATED:20230823T055239Z
LAST-MODIFIED:20230824T034228Z
UID:10004301-1698364800-1698451199@heritagechmaint.devtest.center
SUMMARY:P/T Conf. 10-2 (NS)
DESCRIPTION:
URL:https://heritagechmaint.devtest.center/event/p-t-conf-10-2-ns/
LOCATION:Heritage Christian Academy\, 2506 Zurich Dr. #1\, Fort Collins\, CO\, 80524\, United States
CATEGORIES:School Days
END:VEVENT
BEGIN:VEVENT
DTSTART;VALUE=DATE:20231026
DTEND;VALUE=DATE:20231027
DTSTAMP:20260421T192558
CREATED:20230823T054952Z
LAST-MODIFIED:20230823T054952Z
UID:10004300-1698278400-1698364799@heritagechmaint.devtest.center
SUMMARY:P/T Conf. 1-6pm (1/2 Day)
DESCRIPTION:
URL:https://heritagechmaint.devtest.center/event/p-t-conf-1-6pm-1-2-day/
LOCATION:Heritage Christian Academy\, 2506 Zurich Dr. #1\, Fort Collins\, CO\, 80524\, United States
CATEGORIES:School Days
END:VEVENT
BEGIN:VEVENT
DTSTART;VALUE=DATE:20231013
DTEND;VALUE=DATE:20231017
DTSTAMP:20260421T192558
CREATED:20230823T053331Z
LAST-MODIFIED:20230823T053331Z
UID:10004298-1697155200-1697500799@heritagechmaint.devtest.center
SUMMARY:Fall Break
DESCRIPTION:
URL:https://heritagechmaint.devtest.center/event/fall-break/
LOCATION:Heritage Christian Academy\, 2506 Zurich Dr. #1\, Fort Collins\, CO\, 80524\, United States
CATEGORIES:School Days
END:VEVENT
BEGIN:VEVENT
DTSTART;VALUE=DATE:20231012
DTEND;VALUE=DATE:20231013
DTSTAMP:20260421T192558
CREATED:20230823T053005Z
LAST-MODIFIED:20230823T053005Z
UID:10004297-1697068800-1697155199@heritagechmaint.devtest.center
SUMMARY:End of Q1; 1/2 Day
DESCRIPTION:
URL:https://heritagechmaint.devtest.center/event/end-of-q1-1-2-day/
LOCATION:Heritage Christian Academy\, 2506 Zurich Dr. #1\, Fort Collins\, CO\, 80524\, United States
CATEGORIES:School Days
END:VEVENT
BEGIN:VEVENT
DTSTART;VALUE=DATE:20230904
DTEND;VALUE=DATE:20230905
DTSTAMP:20260421T192558
CREATED:20230821T224842Z
LAST-MODIFIED:20230821T224842Z
UID:10004294-1693785600-1693871999@heritagechmaint.devtest.center
SUMMARY:Labor Day - No School
DESCRIPTION:
URL:https://heritagechmaint.devtest.center/event/labor-day-no-school/
CATEGORIES:School Days
END:VEVENT
BEGIN:VEVENT
DTSTART;VALUE=DATE:20230825
DTEND;VALUE=DATE:20230826
DTSTAMP:20260421T192558
CREATED:20230825T175256Z
LAST-MODIFIED:20230825T175256Z
UID:10004328-1692921600-1693007999@heritagechmaint.devtest.center
SUMMARY:Last Day of School 1/2 Day
DESCRIPTION:
URL:https://heritagechmaint.devtest.center/event/last-day-of-school-1-2-day/
LOCATION:Heritage Christian Academy\, 2506 Zurich Dr. #1\, Fort Collins\, CO\, 80524\, United States
CATEGORIES:School Days
END:VEVENT
BEGIN:VEVENT
DTSTART;TZID=America/Denver:20230824T080000
DTEND;TZID=America/Denver:20230824T170000
DTSTAMP:20260421T192558
CREATED:20230824T231537Z
LAST-MODIFIED:20230824T231537Z
UID:10004311-1692864000-1692896400@heritagechmaint.devtest.center
SUMMARY:Parent/Teacher Conf 8-6pm (No School)
DESCRIPTION:
URL:https://heritagechmaint.devtest.center/event/parent-teacher-conf-8-6pm-no-school/
LOCATION:Heritage Christian Academy\, 2506 Zurich Dr. #1\, Fort Collins\, CO\, 80524\, United States
CATEGORIES:School Days
END:VEVENT
BEGIN:VEVENT
DTSTART;TZID=America/Chicago:20230821T080000
DTEND;TZID=America/Chicago:20230821T114500
DTSTAMP:20260421T192558
CREATED:20230821T224438Z
LAST-MODIFIED:20230822T225506Z
UID:10004293-1692604800-1692618300@heritagechmaint.devtest.center
SUMMARY:PreK - 12th -- First Day of School 1/2 Day
DESCRIPTION:
URL:https://heritagechmaint.devtest.center/event/prek-12th-first-day-of-school-1-2-day/
LOCATION:Heritage Christian Academy\, 2506 Zurich Dr. #1\, Fort Collins\, CO\, 80524\, United States
CATEGORIES:School Days
END:VEVENT
BEGIN:VEVENT
DTSTART;TZID=UTC:20230515T000000
DTEND;TZID=UTC:20230519T235900
DTSTAMP:20260421T192558
CREATED:20230728T135704Z
LAST-MODIFIED:20230808T164600Z
UID:10000058-1684108800-1684540740@heritagechmaint.devtest.center
SUMMARY:Secondary Finals
DESCRIPTION:
URL:https://heritagechmaint.devtest.center/event/secondary-finals-spring-2023/
CATEGORIES:Academic Events,School Days
END:VEVENT
BEGIN:VEVENT
DTSTART;TZID=UTC:20230407T000000
DTEND;TZID=UTC:20230410T235900
DTSTAMP:20260421T192558
CREATED:20230728T141917Z
LAST-MODIFIED:20230731T140501Z
UID:10000064-1680825600-1681171140@heritagechmaint.devtest.center
SUMMARY:Easter Break -- NO SCHOOL
DESCRIPTION:
URL:https://heritagechmaint.devtest.center/event/easter-break-no-school-2023/
CATEGORIES:School Days
END:VEVENT
BEGIN:VEVENT
DTSTART;TZID=UTC:20230313T000000
DTEND;TZID=UTC:20230317T235900
DTSTAMP:20260421T192558
CREATED:20230728T154712Z
LAST-MODIFIED:20230731T124248Z
UID:10000067-1678665600-1679097540@heritagechmaint.devtest.center
SUMMARY:Spring Break -- NO SCHOOL
DESCRIPTION:
URL:https://heritagechmaint.devtest.center/event/spring-break-no-school-2023/
CATEGORIES:School Days
END:VEVENT
BEGIN:VEVENT
DTSTART;TZID=UTC:20221219T000000
DTEND;TZID=UTC:20230103T235900
DTSTAMP:20260421T192558
CREATED:20230801T205002Z
LAST-MODIFIED:20230801T205132Z
UID:10004291-1671408000-1672790340@heritagechmaint.devtest.center
SUMMARY:Christmas Break -- NO SCHOOL
DESCRIPTION:
URL:https://heritagechmaint.devtest.center/event/christmas-break-no-school-2022/
CATEGORIES:School Days
END:VEVENT
BEGIN:VEVENT
DTSTART;TZID=UTC:20221212T080000
DTEND;TZID=UTC:20221216T150000
DTSTAMP:20260421T192558
CREATED:20230728T172317Z
LAST-MODIFIED:20230728T172317Z
UID:10000078-1670832000-1671202800@heritagechmaint.devtest.center
SUMMARY:Secondary Finals
DESCRIPTION:
URL:https://heritagechmaint.devtest.center/event/secondary-finals-2022b/
CATEGORIES:Academic Events,School Days
END:VEVENT
END:VCALENDAR