BEGIN:VCALENDAR
VERSION:2.0
PRODID:-//Heritage Christian Academy - ECPv6.15.17.1//NONSGML v1.0//EN
CALSCALE:GREGORIAN
METHOD:PUBLISH
X-ORIGINAL-URL:https://heritagechmaint.devtest.center
X-WR-CALDESC:Events for Heritage Christian Academy
REFRESH-INTERVAL;VALUE=DURATION:PT1H
X-Robots-Tag:noindex
X-PUBLISHED-TTL:PT1H
BEGIN:VTIMEZONE
TZID:America/Denver
BEGIN:DAYLIGHT
TZOFFSETFROM:-0700
TZOFFSETTO:-0600
TZNAME:MDT
DTSTART:20230312T090000
END:DAYLIGHT
BEGIN:STANDARD
TZOFFSETFROM:-0600
TZOFFSETTO:-0700
TZNAME:MST
DTSTART:20231105T080000
END:STANDARD
BEGIN:DAYLIGHT
TZOFFSETFROM:-0700
TZOFFSETTO:-0600
TZNAME:MDT
DTSTART:20240310T090000
END:DAYLIGHT
BEGIN:STANDARD
TZOFFSETFROM:-0600
TZOFFSETTO:-0700
TZNAME:MST
DTSTART:20241103T080000
END:STANDARD
BEGIN:DAYLIGHT
TZOFFSETFROM:-0700
TZOFFSETTO:-0600
TZNAME:MDT
DTSTART:20250309T090000
END:DAYLIGHT
BEGIN:STANDARD
TZOFFSETFROM:-0600
TZOFFSETTO:-0700
TZNAME:MST
DTSTART:20251102T080000
END:STANDARD
BEGIN:DAYLIGHT
TZOFFSETFROM:-0700
TZOFFSETTO:-0600
TZNAME:MDT
DTSTART:20260308T090000
END:DAYLIGHT
BEGIN:STANDARD
TZOFFSETFROM:-0600
TZOFFSETTO:-0700
TZNAME:MST
DTSTART:20261101T080000
END:STANDARD
END:VTIMEZONE
BEGIN:VEVENT
DTSTART;VALUE=DATE:20251122
DTEND;VALUE=DATE:20251201
DTSTAMP:20260421T035925
CREATED:20250702T181148Z
LAST-MODIFIED:20250702T181148Z
UID:10004915-1763769600-1764547199@heritagechmaint.devtest.center
SUMMARY:Thanksgiving Break (No School)
DESCRIPTION:
URL:https://heritagechmaint.devtest.center/event/thanksgiving-break-no-school-3/
CATEGORIES:School Days
END:VEVENT
BEGIN:VEVENT
DTSTART;TZID=America/Denver:20251031T100000
DTEND;TZID=America/Denver:20251031T140000
DTSTAMP:20260421T035925
CREATED:20250702T172740Z
LAST-MODIFIED:20250702T172740Z
UID:10004908-1761904800-1761919200@heritagechmaint.devtest.center
SUMMARY:Parent Teacher Conferences (No School)
DESCRIPTION:
URL:https://heritagechmaint.devtest.center/event/parent-teacher-conferences-no-school-4/
CATEGORIES:School Activity,School Days
END:VEVENT
BEGIN:VEVENT
DTSTART;TZID=America/Denver:20251030T130000
DTEND;TZID=America/Denver:20251030T180000
DTSTAMP:20260421T035925
CREATED:20250702T172653Z
LAST-MODIFIED:20250702T172653Z
UID:10004907-1761829200-1761847200@heritagechmaint.devtest.center
SUMMARY:Parent Teacher Conferences (1/2 Day)
DESCRIPTION:
URL:https://heritagechmaint.devtest.center/event/parent-teacher-conferences-1-2-day-2/
CATEGORIES:School Activity,School Days
END:VEVENT
BEGIN:VEVENT
DTSTART;VALUE=DATE:20251021
DTEND;VALUE=DATE:20251022
DTSTAMP:20260421T035925
CREATED:20250702T172529Z
LAST-MODIFIED:20250702T172529Z
UID:10004906-1761004800-1761091199@heritagechmaint.devtest.center
SUMMARY:2nd Qtr Begins
DESCRIPTION:
URL:https://heritagechmaint.devtest.center/event/2nd-qtr-begins-2/
CATEGORIES:School Days
END:VEVENT
BEGIN:VEVENT
DTSTART;VALUE=DATE:20251017
DTEND;VALUE=DATE:20251021
DTSTAMP:20260421T035925
CREATED:20250702T172349Z
LAST-MODIFIED:20250702T172349Z
UID:10004905-1760659200-1761004799@heritagechmaint.devtest.center
SUMMARY:Fall Break (No School)
DESCRIPTION:
URL:https://heritagechmaint.devtest.center/event/fall-break-no-school/
CATEGORIES:School Days
END:VEVENT
BEGIN:VEVENT
DTSTART;VALUE=DATE:20251016
DTEND;VALUE=DATE:20251017
DTSTAMP:20260421T035925
CREATED:20250702T172305Z
LAST-MODIFIED:20250702T172305Z
UID:10004904-1760572800-1760659199@heritagechmaint.devtest.center
SUMMARY:1st Qtr Ends (1/2 Day)
DESCRIPTION:
URL:https://heritagechmaint.devtest.center/event/1st-qtr-ends-1-2-day/
CATEGORIES:School Days
END:VEVENT
BEGIN:VEVENT
DTSTART;VALUE=DATE:20250901
DTEND;VALUE=DATE:20250902
DTSTAMP:20260421T035925
CREATED:20250702T170458Z
LAST-MODIFIED:20250702T170458Z
UID:10004896-1756684800-1756771199@heritagechmaint.devtest.center
SUMMARY:Labor Day (No School)
DESCRIPTION:
URL:https://heritagechmaint.devtest.center/event/labor-day-no-school-2/
CATEGORIES:School Days
END:VEVENT
BEGIN:VEVENT
DTSTART;VALUE=DATE:20250818
DTEND;VALUE=DATE:20250819
DTSTAMP:20260421T035925
CREATED:20250702T170206Z
LAST-MODIFIED:20250702T170336Z
UID:10004895-1755475200-1755561599@heritagechmaint.devtest.center
SUMMARY:First Day (1/2 Day!) PreK - 12th
DESCRIPTION:
URL:https://heritagechmaint.devtest.center/event/first-day-of-school-prek-12th-1-2-day/
CATEGORIES:School Days
END:VEVENT
BEGIN:VEVENT
DTSTART;VALUE=DATE:20250811
DTEND;VALUE=DATE:20250814
DTSTAMP:20260421T035925
CREATED:20250826T142428Z
LAST-MODIFIED:20250826T142428Z
UID:10004960-1754870400-1755129599@heritagechmaint.devtest.center
SUMMARY:Teacher In-Service
DESCRIPTION:
URL:https://heritagechmaint.devtest.center/event/teacher-in-service/
CATEGORIES:School Days
END:VEVENT
BEGIN:VEVENT
DTSTART;VALUE=DATE:20250523
DTEND;VALUE=DATE:20250524
DTSTAMP:20260421T035925
CREATED:20241004T161536Z
LAST-MODIFIED:20241004T161536Z
UID:10004622-1747958400-1748044799@heritagechmaint.devtest.center
SUMMARY:Last Day of School (1/2 Day)
DESCRIPTION:
URL:https://heritagechmaint.devtest.center/event/last-day-of-school-1-2-day-3/
CATEGORIES:School Days
END:VEVENT
BEGIN:VEVENT
DTSTART;VALUE=DATE:20250418
DTEND;VALUE=DATE:20250422
DTSTAMP:20260421T035925
CREATED:20241004T160536Z
LAST-MODIFIED:20241004T160536Z
UID:10004613-1744934400-1745279999@heritagechmaint.devtest.center
SUMMARY:Easter Break (No School)
DESCRIPTION:
URL:https://heritagechmaint.devtest.center/event/easter-break-no-school-3/
CATEGORIES:School Days
END:VEVENT
BEGIN:VEVENT
DTSTART;VALUE=DATE:20250324
DTEND;VALUE=DATE:20250325
DTSTAMP:20260421T035925
CREATED:20241004T155400Z
LAST-MODIFIED:20241004T155400Z
UID:10004607-1742774400-1742860799@heritagechmaint.devtest.center
SUMMARY:4th Qtr Begins
DESCRIPTION:
URL:https://heritagechmaint.devtest.center/event/4th-qtr-begins/
CATEGORIES:School Days
END:VEVENT
BEGIN:VEVENT
DTSTART;VALUE=DATE:20250317
DTEND;VALUE=DATE:20250322
DTSTAMP:20260421T035925
CREATED:20241004T155305Z
LAST-MODIFIED:20241004T155305Z
UID:10004606-1742169600-1742601599@heritagechmaint.devtest.center
SUMMARY:Spring Break (No School)
DESCRIPTION:
URL:https://heritagechmaint.devtest.center/event/spring-break-no-school/
CATEGORIES:School Days
END:VEVENT
BEGIN:VEVENT
DTSTART;VALUE=DATE:20250314
DTEND;VALUE=DATE:20250315
DTSTAMP:20260421T035925
CREATED:20241004T155154Z
LAST-MODIFIED:20241004T155154Z
UID:10004605-1741910400-1741996799@heritagechmaint.devtest.center
SUMMARY:3rd Qtr Ends (1/2 Day)
DESCRIPTION:
URL:https://heritagechmaint.devtest.center/event/3rd-qtr-ends-1-2-day-2/
CATEGORIES:School Days
END:VEVENT
BEGIN:VEVENT
DTSTART;VALUE=DATE:20250217
DTEND;VALUE=DATE:20250218
DTSTAMP:20260421T035925
CREATED:20241004T155004Z
LAST-MODIFIED:20241004T155004Z
UID:10004604-1739750400-1739836799@heritagechmaint.devtest.center
SUMMARY:President's Day (No School)
DESCRIPTION:
URL:https://heritagechmaint.devtest.center/event/presidents-day-no-school-2/
CATEGORIES:School Days
END:VEVENT
BEGIN:VEVENT
DTSTART;VALUE=DATE:20250214
DTEND;VALUE=DATE:20250215
DTSTAMP:20260421T035925
CREATED:20241004T154914Z
LAST-MODIFIED:20241004T154914Z
UID:10004603-1739491200-1739577599@heritagechmaint.devtest.center
SUMMARY:Teacher In-Service (No School)
DESCRIPTION:
URL:https://heritagechmaint.devtest.center/event/teacher-in-service-no-school-2/
CATEGORIES:School Days
END:VEVENT
BEGIN:VEVENT
DTSTART;TZID=America/Denver:20250213T080000
DTEND;TZID=America/Denver:20250213T180000
DTSTAMP:20260421T035925
CREATED:20241004T154756Z
LAST-MODIFIED:20241004T154756Z
UID:10004602-1739433600-1739469600@heritagechmaint.devtest.center
SUMMARY:Parent Teacher Conferences (No School)
DESCRIPTION:
URL:https://heritagechmaint.devtest.center/event/parent-teacher-conferences-no-school-3/
CATEGORIES:School Days
END:VEVENT
BEGIN:VEVENT
DTSTART;VALUE=DATE:20250120
DTEND;VALUE=DATE:20250121
DTSTAMP:20260421T035925
CREATED:20241004T154628Z
LAST-MODIFIED:20241004T154628Z
UID:10004601-1737331200-1737417599@heritagechmaint.devtest.center
SUMMARY:MLK Day (No School)
DESCRIPTION:
URL:https://heritagechmaint.devtest.center/event/mlk-day-no-school-2/
CATEGORIES:School Days
END:VEVENT
BEGIN:VEVENT
DTSTART;VALUE=DATE:20250107
DTEND;VALUE=DATE:20250108
DTSTAMP:20260421T035925
CREATED:20241004T154540Z
LAST-MODIFIED:20241004T154540Z
UID:10004600-1736208000-1736294399@heritagechmaint.devtest.center
SUMMARY:3rd Qtr Begins
DESCRIPTION:
URL:https://heritagechmaint.devtest.center/event/3rd-qtr-begins/
CATEGORIES:School Days
END:VEVENT
BEGIN:VEVENT
DTSTART;VALUE=DATE:20250106
DTEND;VALUE=DATE:20250107
DTSTAMP:20260421T035925
CREATED:20241004T154420Z
LAST-MODIFIED:20241004T154420Z
UID:10004599-1736121600-1736207999@heritagechmaint.devtest.center
SUMMARY:Teacher Work Day (No School)
DESCRIPTION:
URL:https://heritagechmaint.devtest.center/event/teacher-work-day-no-school-2/
CATEGORIES:School Days
END:VEVENT
BEGIN:VEVENT
DTSTART;VALUE=DATE:20241220
DTEND;VALUE=DATE:20250106
DTSTAMP:20260421T035925
CREATED:20241004T153319Z
LAST-MODIFIED:20241004T153352Z
UID:10004598-1734652800-1736121599@heritagechmaint.devtest.center
SUMMARY:Christmas Break (No School)
DESCRIPTION:
URL:https://heritagechmaint.devtest.center/event/christmas-break-no-school-3/
CATEGORIES:School Days
END:VEVENT
BEGIN:VEVENT
DTSTART;VALUE=DATE:20241219
DTEND;VALUE=DATE:20241220
DTSTAMP:20260421T035925
CREATED:20241004T153137Z
LAST-MODIFIED:20241004T153137Z
UID:10004597-1734566400-1734652799@heritagechmaint.devtest.center
SUMMARY:2nd Qtr Ends (1/2 Day)
DESCRIPTION:
URL:https://heritagechmaint.devtest.center/event/2nd-qtr-ends-1-2-day/
CATEGORIES:School Days
END:VEVENT
BEGIN:VEVENT
DTSTART;VALUE=DATE:20241123
DTEND;VALUE=DATE:20241202
DTSTAMP:20260421T035925
CREATED:20241004T152730Z
LAST-MODIFIED:20241007T162926Z
UID:10004594-1732320000-1733097599@heritagechmaint.devtest.center
SUMMARY:Thanksgiving Break (No School)
DESCRIPTION:
URL:https://heritagechmaint.devtest.center/event/thanksgiving-break-no-school-2/
CATEGORIES:School Days
END:VEVENT
BEGIN:VEVENT
DTSTART;TZID=America/Denver:20241025T100000
DTEND;TZID=America/Denver:20241025T140000
DTSTAMP:20260421T035925
CREATED:20241004T151020Z
LAST-MODIFIED:20241004T151020Z
UID:10004592-1729850400-1729864800@heritagechmaint.devtest.center
SUMMARY:Parent Teacher Conferences (No School)
DESCRIPTION:
URL:https://heritagechmaint.devtest.center/event/parent-teacher-conferences-no-school-2/
CATEGORIES:School Days
END:VEVENT
BEGIN:VEVENT
DTSTART;TZID=America/Denver:20241024T130000
DTEND;TZID=America/Denver:20241024T180000
DTSTAMP:20260421T035925
CREATED:20241004T150914Z
LAST-MODIFIED:20241004T150914Z
UID:10004591-1729774800-1729792800@heritagechmaint.devtest.center
SUMMARY:Parent Teacher Conferences (1/2 Day)
DESCRIPTION:
URL:https://heritagechmaint.devtest.center/event/parent-teacher-conferences-1-2-day/
CATEGORIES:School Days
END:VEVENT
BEGIN:VEVENT
DTSTART;VALUE=DATE:20241015
DTEND;VALUE=DATE:20241016
DTSTAMP:20260421T035925
CREATED:20241004T150723Z
LAST-MODIFIED:20241004T150723Z
UID:10004590-1728950400-1729036799@heritagechmaint.devtest.center
SUMMARY:2nd Qtr Begins
DESCRIPTION:
URL:https://heritagechmaint.devtest.center/event/2nd-qtr-begins/
CATEGORIES:School Days
END:VEVENT
BEGIN:VEVENT
DTSTART;VALUE=DATE:20241011
DTEND;VALUE=DATE:20241015
DTSTAMP:20260421T035925
CREATED:20241004T150553Z
LAST-MODIFIED:20241007T162752Z
UID:10004589-1728604800-1728950399@heritagechmaint.devtest.center
SUMMARY:Fall Break (No School)
DESCRIPTION:
URL:https://heritagechmaint.devtest.center/event/fall-break-3/
CATEGORIES:School Days
END:VEVENT
BEGIN:VEVENT
DTSTART;VALUE=DATE:20241010
DTEND;VALUE=DATE:20241011
DTSTAMP:20260421T035925
CREATED:20241004T150449Z
LAST-MODIFIED:20241004T150750Z
UID:10004588-1728518400-1728604799@heritagechmaint.devtest.center
SUMMARY:1st Qtr Ends (1/2 Day)
DESCRIPTION:
URL:https://heritagechmaint.devtest.center/event/end-of-1st-qtr-1-2-day/
CATEGORIES:School Days
END:VEVENT
BEGIN:VEVENT
DTSTART;VALUE=DATE:20240524
DTEND;VALUE=DATE:20240525
DTSTAMP:20260421T035925
CREATED:20240317T224857Z
LAST-MODIFIED:20240317T225149Z
UID:10004583-1716508800-1716595199@heritagechmaint.devtest.center
SUMMARY:Last Day of School; 1/2 Day
DESCRIPTION:
URL:https://heritagechmaint.devtest.center/event/last-day-of-school-1-2-day-2/
CATEGORIES:School Days
END:VEVENT
BEGIN:VEVENT
DTSTART;VALUE=DATE:20240329
DTEND;VALUE=DATE:20240402
DTSTAMP:20260421T035925
CREATED:20230825T172709Z
LAST-MODIFIED:20230825T172709Z
UID:10004317-1711670400-1712015999@heritagechmaint.devtest.center
SUMMARY:Easter Break -- No School
DESCRIPTION:
URL:https://heritagechmaint.devtest.center/event/easter-break-no-school-2/
LOCATION:Heritage Christian Academy\, 2506 Zurich Dr. #1\, Fort Collins\, CO\, 80524\, United States
CATEGORIES:School Days
END:VEVENT
END:VCALENDAR