BEGIN:VCALENDAR
VERSION:2.0
PRODID:-//Heritage Christian Academy - ECPv6.15.17.1//NONSGML v1.0//EN
CALSCALE:GREGORIAN
METHOD:PUBLISH
X-ORIGINAL-URL:https://heritagechmaint.devtest.center
X-WR-CALDESC:Events for Heritage Christian Academy
REFRESH-INTERVAL;VALUE=DURATION:PT1H
X-Robots-Tag:noindex
X-PUBLISHED-TTL:PT1H
BEGIN:VTIMEZONE
TZID:America/Denver
BEGIN:DAYLIGHT
TZOFFSETFROM:-0700
TZOFFSETTO:-0600
TZNAME:MDT
DTSTART:20220313T090000
END:DAYLIGHT
BEGIN:STANDARD
TZOFFSETFROM:-0600
TZOFFSETTO:-0700
TZNAME:MST
DTSTART:20221106T080000
END:STANDARD
BEGIN:DAYLIGHT
TZOFFSETFROM:-0700
TZOFFSETTO:-0600
TZNAME:MDT
DTSTART:20230312T090000
END:DAYLIGHT
BEGIN:STANDARD
TZOFFSETFROM:-0600
TZOFFSETTO:-0700
TZNAME:MST
DTSTART:20231105T080000
END:STANDARD
BEGIN:DAYLIGHT
TZOFFSETFROM:-0700
TZOFFSETTO:-0600
TZNAME:MDT
DTSTART:20240310T090000
END:DAYLIGHT
BEGIN:STANDARD
TZOFFSETFROM:-0600
TZOFFSETTO:-0700
TZNAME:MST
DTSTART:20241103T080000
END:STANDARD
END:VTIMEZONE
BEGIN:VEVENT
DTSTART;TZID=America/Denver:20231130T153000
DTEND;TZID=America/Denver:20231130T164500
DTSTAMP:20260424T154528
CREATED:20230901T003411Z
LAST-MODIFIED:20230901T003411Z
UID:10004372-1701358200-1701362700@heritagechmaint.devtest.center
SUMMARY:HSGB at Liberty Common
DESCRIPTION:
URL:https://heritagechmaint.devtest.center/event/hsgb-at-liberty-common-2/
CATEGORIES:High School,HS Girls Basketball,JV,Sports,Team Level
END:VEVENT
BEGIN:VEVENT
DTSTART;TZID=America/Denver:20231130T193000
DTEND;TZID=America/Denver:20231130T204500
DTSTAMP:20260424T154528
CREATED:20230901T003409Z
LAST-MODIFIED:20230901T003409Z
UID:10004371-1701372600-1701377100@heritagechmaint.devtest.center
SUMMARY:HSGB at Liberty Common
DESCRIPTION:
URL:https://heritagechmaint.devtest.center/event/hsgb-at-liberty-common/
CATEGORIES:High School,HS Girls Basketball,Sports,Team Level,Varsity
END:VEVENT
END:VCALENDAR