BEGIN:VCALENDAR
VERSION:2.0
PRODID:-//Heritage Christian Academy - ECPv6.15.17.1//NONSGML v1.0//EN
CALSCALE:GREGORIAN
METHOD:PUBLISH
X-ORIGINAL-URL:https://heritagechmaint.devtest.center
X-WR-CALDESC:Events for Heritage Christian Academy
REFRESH-INTERVAL;VALUE=DURATION:PT1H
X-Robots-Tag:noindex
X-PUBLISHED-TTL:PT1H
BEGIN:VTIMEZONE
TZID:America/Denver
BEGIN:DAYLIGHT
TZOFFSETFROM:-0700
TZOFFSETTO:-0600
TZNAME:MDT
DTSTART:20220313T090000
END:DAYLIGHT
BEGIN:STANDARD
TZOFFSETFROM:-0600
TZOFFSETTO:-0700
TZNAME:MST
DTSTART:20221106T080000
END:STANDARD
BEGIN:DAYLIGHT
TZOFFSETFROM:-0700
TZOFFSETTO:-0600
TZNAME:MDT
DTSTART:20230312T090000
END:DAYLIGHT
BEGIN:STANDARD
TZOFFSETFROM:-0600
TZOFFSETTO:-0700
TZNAME:MST
DTSTART:20231105T080000
END:STANDARD
BEGIN:DAYLIGHT
TZOFFSETFROM:-0700
TZOFFSETTO:-0600
TZNAME:MDT
DTSTART:20240310T090000
END:DAYLIGHT
BEGIN:STANDARD
TZOFFSETFROM:-0600
TZOFFSETTO:-0700
TZNAME:MST
DTSTART:20241103T080000
END:STANDARD
END:VTIMEZONE
BEGIN:VEVENT
DTSTART;VALUE=DATE:20231127
DTEND;VALUE=DATE:20231128
DTSTAMP:20260424T170900
CREATED:20230901T003408Z
LAST-MODIFIED:20230901T003408Z
UID:10004370-1701043200-1701129599@heritagechmaint.devtest.center
SUMMARY:HSGB First Game
DESCRIPTION:
URL:https://heritagechmaint.devtest.center/event/hsgb-first-game/
CATEGORIES:High School,HS Girls Basketball,Sports
END:VEVENT
BEGIN:VEVENT
DTSTART;TZID=America/Denver:20231127T160000
DTEND;TZID=America/Denver:20231127T170000
DTSTAMP:20260424T170900
CREATED:20230901T012916Z
LAST-MODIFIED:20230901T012916Z
UID:10004534-1701100800-1701104400@heritagechmaint.devtest.center
SUMMARY:MSGV First Formal Practice
DESCRIPTION:
URL:https://heritagechmaint.devtest.center/event/msgv-first-formal-practice/
CATEGORIES:Middle School,MS Girls Volleyball,Sports
END:VEVENT
END:VCALENDAR